BEGIN:VCALENDAR
PRODID:NingEventWidget-v1
VERSION:2.0
METHOD:PUBLISH
BEGIN:VEVENT
UID:1791588:Event:172665
DTSTAMP:20260419T145244Z
SUMMARY:Radiology Career Boosters (Live Event)
DESCRIPTION:Course description coming soon!\n\nFor more information vi
 sit https://community.radrounds.com/events/radiology-career-boosters-l
 ive-event-5
DTSTART:20171118T130000Z
DTEND:20171118T211500Z
CATEGORIES:live, event
LOCATION:TBD
WEBSITE:https://store.aheconline.com/index.php?route=product/product&p
 ath=59&product_id=3159
URL:https://store.aheconline.com/index.php?route=product/product&path=
 59&product_id=3159
CONTACT:800-239-1361
ORGANIZER;CN="Larry Carney":https://community.radrounds.com/profile/La
 rryCarney
ATTACH;FMTTYPE="image/jpeg":
ATTENDEE;ROLE=REQ-PARTICIPANT;PARTSTAT=ACCEPTED;RSVP=TRUE;CN="Larry Ca
 rney":https://community.radrounds.com/profile/LarryCarney
END:VEVENT
END:VCALENDAR
