BEGIN:VCALENDAR
PRODID:NingEventWidget-v1
VERSION:2.0
METHOD:PUBLISH
BEGIN:VEVENT
UID:1791588:Event:185237
DTSTAMP:20260422T070331Z
SUMMARY:Radiology Career Boosters (Live Event)
DESCRIPTION:Course Topics:\n\nBasic Radiation Safety - OR and Portable
 s, Interventional Suites, and R & F Rooms\nPediatric and Geriatric Ima
 ging\nPathologic Conditions of the Skeleton\nHow In the World Can I Ge
 t That? - Assessing & Solving Difficult X-ray Examinations\nCommunica
 tions in the Imaging Department\n\n\nFor more information visit https:
 //community.radrounds.com/events/radiology-career-boosters-live-event-
 10
DTSTART:20190518T120000Z
DTEND:20190518T201500Z
CATEGORIES:live, event
LOCATION:JPS Health Network (John Peter Smith Hospital)
WEBSITE:http://store.aheconline.com
URL:http://store.aheconline.com
CONTACT:800-239-1361
ORGANIZER;CN="Larry Carney":https://community.radrounds.com/profile/La
 rryCarney
ATTACH;FMTTYPE="image/jpeg":
ATTENDEE;ROLE=REQ-PARTICIPANT;PARTSTAT=ACCEPTED;RSVP=TRUE;CN="Larry Ca
 rney":https://community.radrounds.com/profile/LarryCarney
END:VEVENT
END:VCALENDAR
