BEGIN:VCALENDAR
PRODID:NingEventWidget-v1
VERSION:2.0
METHOD:PUBLISH
BEGIN:VEVENT
UID:1791588:Event:168744
DTSTAMP:20260419T094726Z
SUMMARY:Radiographers See Everything
DESCRIPTION:Course Description Coming Soon!\n\nFor more information vi
 sit https://community.radrounds.com/events/radiographers-see-everythin
 g
DTSTART:20170304T140000Z
DTEND:20170304T170000Z
CATEGORIES:webinar
LOCATION:Advanced Health Education Center
WEBSITE:https://store.aheconline.com/index.php?route=product/product&p
 ath=59&product_id=2883
URL:https://store.aheconline.com/index.php?route=product/product&path=
 59&product_id=2883
CONTACT:1-800-239-1361
ORGANIZER;CN="Larry Carney":https://community.radrounds.com/profile/La
 rryCarney
ATTACH;FMTTYPE="image/jpeg":
ATTENDEE;ROLE=REQ-PARTICIPANT;PARTSTAT=ACCEPTED;RSVP=TRUE;CN="Larry Ca
 rney":https://community.radrounds.com/profile/LarryCarney
END:VEVENT
END:VCALENDAR
