BEGIN:VCALENDAR
PRODID:NingEventWidget-v1
VERSION:2.0
METHOD:PUBLISH
BEGIN:VEVENT
UID:1791588:Event:183235
DTSTAMP:20260425T105341Z
SUMMARY:Radiographers See Everything (live webinar)
DESCRIPTION:Course Topics:\nCase Studies: Pathology Across Multiple Mo
 dalities\n\n\nThe Medical Marijuana Conundrum \n\n\nRadiologic Diagno
 sis: Drug Smugglers and Body Packers\n\nFor more information visit htt
 ps://community.radrounds.com/events/radiographers-see-everything-live-
 webinar-3
DTSTART:20180815T130000Z
DTEND:20180815T160000Z
CATEGORIES:live, webinar
LOCATION:Advanced Health Education Center
WEBSITE:https://store.aheconline.com/
URL:https://store.aheconline.com/
CONTACT:800-239-1361
ORGANIZER;CN="Larry Carney":https://community.radrounds.com/profile/La
 rryCarney
ATTACH;FMTTYPE="image/jpeg":
ATTENDEE;ROLE=REQ-PARTICIPANT;PARTSTAT=ACCEPTED;RSVP=TRUE;CN="Larry Ca
 rney":https://community.radrounds.com/profile/LarryCarney
END:VEVENT
END:VCALENDAR
