BEGIN:VCALENDAR
PRODID:NingEventWidget-v1
VERSION:2.0
METHOD:PUBLISH
BEGIN:VEVENT
UID:1791588:Event:193801
DTSTAMP:20260422T151820Z
SUMMARY:Radiographers See Everything (Live Webinar)
DESCRIPTION:Course Topics:\nCase Studies: Pathology Across Multiple Mo
 dalities\n\nIntro to Different Modalities\nSpecific Pathology\nAdvanta
 ges and Disadvantages of Modalities\n\nThe Medical Marijuana Conundrum
 \n\nMedical Conditions and Administration\nThe Drug, The Plant, The In
 dustry, and The Activist\n Federal Crackdown and Recreational Use Leg
 alized\nRadiology’s Response\n\nRadiologic Diagnosis: Drug Smugglers
  and Body Packers\n\nPellets, Packing, and Risks\nScreenings\n\nCase S
 tudies\n\nFor more information visit https://community.radrounds.com/e
 vents/radiographers-see-everything-live-webinar-13
DTSTART:20191005T130000Z
DTEND:20191005T160000Z
CATEGORIES:live, webinar
LOCATION:Advanced Health Education Center
WEBSITE:http://store.aheconline.com
URL:http://store.aheconline.com
CONTACT:1(800) 239-1361
ORGANIZER:AHEC
ATTACH;FMTTYPE="image/jpeg":
ATTENDEE;ROLE=REQ-PARTICIPANT;PARTSTAT=ACCEPTED;RSVP=TRUE;CN="Larry Ca
 rney":https://community.radrounds.com/profile/LarryCarney
END:VEVENT
END:VCALENDAR
