BEGIN:VCALENDAR
PRODID:NingEventWidget-v1
VERSION:2.0
METHOD:PUBLISH
BEGIN:VEVENT
UID:1791588:Event:172800
DTSTAMP:20260422T145711Z
SUMMARY:Radiographers See Everything (Live Webinar)
DESCRIPTION:Course Topics:\nÂ \nCase Studies: Pathology Across Multipl
 e Modalities\nÂ·Â Â Â Â Â Â Â Â Â Intro to Different Modalities\nÂ·Â Â
  Â Â Â Â Â Â Â Specific Pathology\nÂ·Â Â Â Â Â Â Â Â Â Advantages and 
 Disadvantages of Modalities\n\nThe Medical Marijuana Conundrum\nÂ·Â Â 
 Â Â Â Â Â Â Â Medical Conditions and Administration\nÂ·Â Â Â Â Â Â Â Â
  Â The Drug, The Plant, The Industry, and The Activist\nÂ·Â Â Â Â Â Â 
 Â Â Â Federal Crackdown and Recreational Use Legalized\nÂ·Â Â Â Â Â Â 
 Â Â Â Radiologyâ€™s Response\n\nRadiologic Diagnosis: Drug Smugglers a
 nd Body Packers\nÂ·Â Â Â Â Â Â Â Â Â Pellets, Packing, and Risks\nÂ·Â 
 Â Â Â Â Â Â Â Â Screenings\n\nCase Studies\n\nFor more information vis
 it https://community.radrounds.com/events/radiographers-see-everything
 -live-webinar-1
DTSTART:20171009T220000Z
DTEND:20171010T003000Z
CATEGORIES:live, webinar
LOCATION:Advanced Health Education Center
WEBSITE:https://store.aheconline.com/index.php?route=product/product&p
 ath=59&product_id=2982
URL:https://store.aheconline.com/index.php?route=product/product&path=
 59&product_id=2982
CONTACT:800-239-1361
ORGANIZER;CN="Larry Carney":https://community.radrounds.com/profile/La
 rryCarney
ATTACH;FMTTYPE="image/jpeg":
ATTENDEE;ROLE=REQ-PARTICIPANT;PARTSTAT=ACCEPTED;RSVP=TRUE;CN="Larry Ca
 rney":https://community.radrounds.com/profile/LarryCarney
END:VEVENT
END:VCALENDAR
