BEGIN:VCALENDAR
PRODID:NingEventWidget-v1
VERSION:2.0
METHOD:PUBLISH
BEGIN:VEVENT
UID:1791588:Event:116022
DTSTAMP:20260424T020536Z
SUMMARY:Radiation Therapy Symposium
DESCRIPTION:Radiation Therapy Symposium Saturday, March 10, 2012 - Mon
 day, March 12, 2012Advanced Health Education Center Houston, Texas (TX
 ), United StatesProvided by Advanced Health Education Center  CME Prov
 ider: Advanced Health Education Center 8502 Tybor DriveHouston, Texas 
 (TX) 77074United States\nToll Free: (800) 239-1361Phone: (713) 772-015
 7Fax: (713) 772-0155\n\nConference Center:Advanced Health Education Ce
 nter 8502 Tybor DriveHouston, Texas (TX) 77074United States\nPhone: (8
 00) 239-1361\nDescription:Join us for a one day conference planned for
  the today’s practicing Radiation Therapist with topics that are rel
 evant to the technologist’s daily practice. The cutting edge technol
 ogy in radiation therapy reflects the “new face” of skills needed 
 by today’s Radiation Therapist. The faculty will touch on the explos
 ion of new technology in Radiation Therapy and reinforce the fundament
 als of how treatments are planned and delivered with various imaging m
 odalities.\nSelf Assessment Module (SAM): No\nInstructors:Please visit
  the Advanced Health Education Center website for more information.\nS
 pecialty Audience:Radiology\n\nFor more information visit https://comm
 unity.radrounds.com/events/radiation-therapy-symposium-8
DTSTART:20120310T050000Z
DTEND:20120313T035900Z
CATEGORIES:radiology
LOCATION:Advanced Health Education Center
WEBSITE:http://aheconline.com/
URL:http://aheconline.com/
CONTACT:(800) 239-1361
ORGANIZER:Advanced Health Education Center
ATTACH;FMTTYPE="image/jpeg":
ATTENDEE;ROLE=REQ-PARTICIPANT;PARTSTAT=ACCEPTED;RSVP=TRUE;CN="radRound
 s Radiology Events":https://community.radrounds.com/profile/radRoundsR
 adiologyEvents
END:VEVENT
END:VCALENDAR
