BEGIN:VCALENDAR
PRODID:NingEventWidget-v1
VERSION:2.0
METHOD:PUBLISH
BEGIN:VEVENT
UID:1791588:Event:167841
DTSTAMP:20260421T060736Z
SUMMARY:Radiation Safety in Imaging Today
DESCRIPTION:Course Topics\n\nRadiation and radioactivity\nBiological e
 ffects of radiation\nOccupational exposure limits\nTypes of radiation 
 exposure\nHistory of Radiation\nMeasuring Radiation\nComponents of a R
 adiation Safety Program\n\n\nFor more information visit https://commun
 ity.radrounds.com/events/radiation-safety-in-imaging-today-17
DTSTART:20160930T130000Z
DTEND:20160930T170000Z
CATEGORIES:live, event
LOCATION:Houston
WEBSITE:https://store.aheconline.com/index.php?route=product/product&p
 ath=59&product_id=2160
URL:https://store.aheconline.com/index.php?route=product/product&path=
 59&product_id=2160
CONTACT:18002391361
ORGANIZER;CN="Larry Carney":https://community.radrounds.com/profile/La
 rryCarney
ATTACH;FMTTYPE="image/jpeg":
ATTENDEE;ROLE=REQ-PARTICIPANT;PARTSTAT=ACCEPTED;RSVP=TRUE;CN="Larry Ca
 rney":https://community.radrounds.com/profile/LarryCarney
END:VEVENT
END:VCALENDAR
