BEGIN:VCALENDAR
PRODID:NingEventWidget-v1
VERSION:2.0
METHOD:PUBLISH
BEGIN:VEVENT
UID:1791588:Event:158564
DTSTAMP:20260421T192655Z
SUMMARY:Radiation Safety in Imaging Today
DESCRIPTION:*This event is also available as a live simulcast. Attend
  for live, instructor led credits from the comfort of your home! Click
  this link to register for the live simulcast: LINK.\nThis four-hour 
 course will provide vital radiation safety information to both the tec
 hnologist and non-technologist performing examinations in healthcare f
 acilities today. Topics covered will include basic radiation safety, t
 he role of the radiation safety program and the effects of ionizing ra
 diation. Also covered will be radiation detection and personal protect
 ion methods related to ionizing radiation. This course is an excellent
  option for the registered technologist to refresh their knowledge of 
 radiation safety in a minimal amount of time. This course can be used 
 to provide required radiation safety training for the non-technologist
  performing bone densitometry measurements in the state of Texas. Also
 , the new Texas rules require Non-Certified Technicians (NCTs) to comp
 lete 6-hours of continuing education every two years. This course will
  meet four of the six required hours of continuing education as requir
 ed by the Texas Department of State Health Services.  Course Topics\n\
 nRadiation and radioactivity\nBiological effects of radiation\nOccupat
 ional exposure limits\nTypes of radiation exposure\nHistory of Radiati
 on\nMeasuring Radiation\nComponents of a Radiation Safety Program\n\nI
 nstructor: Lesa Mohr, RT(R)(QM)(BD)\n\nFor more information visit htt
 ps://community.radrounds.com/events/radiation-safety-in-imaging-today-
 16
DTSTART:20150619T040000Z
DTEND:20150620T035900Z
CATEGORIES:seminar
LOCATION:AHEC
WEBSITE:https://store.aheconline.com/index.php?route=product/product&f
 ilter_name=RADIATION%20SAFETY%20IN%20IMAGING%20TODAY&page=2&product_id
 =1552
URL:https://store.aheconline.com/index.php?route=product/product&filte
 r_name=RADIATION%20SAFETY%20IN%20IMAGING%20TODAY&page=2&product_id=155
 2
CONTACT:713-772-0157
ORGANIZER;CN="Larry Carney":https://community.radrounds.com/profile/La
 rryCarney
ATTACH;FMTTYPE="image/jpeg":
ATTENDEE;ROLE=REQ-PARTICIPANT;PARTSTAT=ACCEPTED;RSVP=TRUE;CN="Larry Ca
 rney":https://community.radrounds.com/profile/LarryCarney
END:VEVENT
END:VCALENDAR
