BEGIN:VCALENDAR
PRODID:NingEventWidget-v1
VERSION:2.0
METHOD:PUBLISH
BEGIN:VEVENT
UID:1791588:Event:158604
DTSTAMP:20260423T103913Z
SUMMARY:Radiation Safety in Imaging Today
DESCRIPTION:egister early and save! Please register early and reserve 
 your place by providing payment to avoid an additional $25 fee require
 d for registrations given within two (2) weeks of the course.\n*This e
 vent is also available as a live simulcast. Attend for live, instruct
 or led credits from the comfort of your home! Click this link to regis
 ter for the live simulcast: LINK.\nThis four-hour course will provide
  vital radiation safety information to both the technologist and non-t
 echnologist performing examinations in healthcare facilities today. To
 pics covered will include basic radiation safety, the role of the radi
 ation safety program and the effects of ionizing radiation. Also cover
 ed will be radiation detection and personal protection methods related
  to ionizing radiation. This course is an excellent option for the reg
 istered technologist to refresh their knowledge of radiation safety in
  a minimal amount of time. This course can be used to provide required
  radiation safety training for the non-technologist performing bone de
 nsitometry measurements in the state of Texas. Also, the new Texas rul
 es require Non-Certified Technicians (NCTs) to complete 6-hours of con
 tinuing education every two years. This course will meet four of the s
 ix required hours of continuing education as required by the Texas Dep
 artment of State Health Services.  Course Topics\n\nRadiation and radi
 oactivity\nBiological effects of radiation\nOccupational exposure limi
 ts\nTypes of radiation exposure\nHistory of Radiation\nMeasuring Radia
 tion\nComponents of a Radiation Safety Program\n\nInstructor: Lesa Mo
 hr, RT(R)(QM)(BD)\n\nFor more information visit https://community.radr
 ounds.com/events/radiation-safety-in-imaging-today-15
DTSTART:20151002T040000Z
DTEND:20151003T035900Z
CATEGORIES:seminar
LOCATION:AHEC
WEBSITE:https://store.aheconline.com/index.php?route=product/product&f
 ilter_name=radiaton%20safety%20in%20imaging%20today&product_id=1552
URL:https://store.aheconline.com/index.php?route=product/product&filte
 r_name=radiaton%20safety%20in%20imaging%20today&product_id=1552
CONTACT:713-772-0157
ORGANIZER;CN="Larry Carney":https://community.radrounds.com/profile/La
 rryCarney
ATTACH;FMTTYPE="image/jpeg":
ATTENDEE;ROLE=REQ-PARTICIPANT;PARTSTAT=ACCEPTED;RSVP=TRUE;CN="Larry Ca
 rney":https://community.radrounds.com/profile/LarryCarney
END:VEVENT
END:VCALENDAR
