BEGIN:VCALENDAR
PRODID:NingEventWidget-v1
VERSION:2.0
METHOD:PUBLISH
BEGIN:VEVENT
UID:1791588:Event:116610
DTSTAMP:20260422T190731Z
SUMMARY:Radiation Safety in Imaging Today
DESCRIPTION:Radiation Safety in Imaging Today Friday, June 01, 2012 - 
 Friday, June 01, 2012Advanced Health Education Center Houston, Texas (
 TX), United StatesProvided by Advanced Health Education Center  CME Pr
 ovider: Advanced Health Education Center 8502 Tybor DriveHouston, Texa
 s (TX) 77074United States\nToll Free: (800) 239-1361Phone: (713) 772-0
 157Fax: (713) 772-0155\n\nConference Center:Advanced Health Education 
 Center 8502 Tybor DriveHouston, Texas (TX) 77074United States\nPhone: 
 (800) 239-1361\nDescription:This four-hour course will provide vital r
 adiation safety information to both the technologist and nontechnologi
 st performing examinations in healthcare facilities today. Topics cove
 red will include basic radiation safety, the role of the radiation saf
 ety program and the effects of ionizing radiation. Also covered will b
 e radiation detection and personal protection methods related to ioniz
 ing radiation. This course is an excellent option for the registered t
 echnologist to refresh their knowledge of radiation safety in a minima
 l amount of time. This course can be used to provide required radiatio
 n safety training for the nontechnologist performing Bone Densitometry
  measurements in the state of Texas. Also, the new Texas rules require
  Noncertified Technicians (NCTs) to complete 6-hours of continuing edu
 cation every two years. This course will meet four of the six required
  hours of continuing education as required by the Texas Department of 
 State Health Services.\nSelf Assessment Module (SAM): No\nInstructors:
 Lesa Mohr, RT(R)(QM)(BD)\nSpecialty Audience:Radiology\n\nFor more inf
 ormation visit https://community.radrounds.com/events/radiation-safety
 -in-imaging-today-1
DTSTART:20120601T040000Z
DTEND:20120602T035900Z
CATEGORIES:radiology
LOCATION:Advanced Health Education Center
WEBSITE:http://aheconline.com/
URL:http://aheconline.com/
CONTACT:(800) 239-1361
ORGANIZER:Advanced Health Education Center
ATTACH;FMTTYPE="image/jpeg":
ATTENDEE;ROLE=REQ-PARTICIPANT;PARTSTAT=ACCEPTED;RSVP=TRUE;CN="radRound
 s Radiology Events":https://community.radrounds.com/profile/radRoundsR
 adiologyEvents
END:VEVENT
END:VCALENDAR
