BEGIN:VCALENDAR
PRODID:NingEventWidget-v1
VERSION:2.0
METHOD:PUBLISH
BEGIN:VEVENT
UID:1791588:Event:168140
DTSTAMP:20260421T005524Z
SUMMARY:Quality Management Theory
DESCRIPTION:Course Topics Day 1\n\nPhysical principles of X-ray\nPrinc
 iples of computed radiography\nPrinciples of digital radiography\nDigi
 tal exposure indicators and values\nQuality control in radiology\nACR 
 mammography quality control testing\nAnalog and digital mammography qu
 ality control testing\n\nDay 2\n\nQuality management philosophy\nQuali
 ty improvement\nQC tools, information collection, data analysis\nStude
 nt development of QI monitors\nAnalysis of QI monitors\nCreation of mo
 ck graphs & charts to demonstrate the QI monitor process\nReview of mo
 nitors and charts\nOSHA standards and guidelines\nHIPAA compliance\nSa
 fe medical devices act\nNCRP rules and regulations for QC\n\nDay 3\n\n
 Radiographic equipment quality control tests – film based and electr
 onic images\n“Hands-on” equipment testing\nField trip to clinical 
 site with the opportunity to perform “hands-on” QC testing and obs
 erve a demonstration of QC testing\n\n\nFor more information visit htt
 ps://community.radrounds.com/events/quality-management-theory-3
DTSTART:20160929T120000Z
DTEND:20161001T201500Z
CATEGORIES:live, event
LOCATION:Houston
WEBSITE:https://store.aheconline.com/index.php?route=product/product&p
 ath=59&product_id=2381
URL:https://store.aheconline.com/index.php?route=product/product&path=
 59&product_id=2381
CONTACT:18002391361
ORGANIZER;CN="Larry Carney":https://community.radrounds.com/profile/La
 rryCarney
ATTACH;FMTTYPE="image/jpeg":
ATTENDEE;ROLE=REQ-PARTICIPANT;PARTSTAT=ACCEPTED;RSVP=TRUE;CN="Larry Ca
 rney":https://community.radrounds.com/profile/LarryCarney
END:VEVENT
END:VCALENDAR
