BEGIN:VCALENDAR
PRODID:NingEventWidget-v1
VERSION:2.0
METHOD:PUBLISH
BEGIN:VEVENT
UID:1791588:Event:116100
DTSTAMP:20260424T032137Z
SUMMARY:Quality Management Fellowship
DESCRIPTION:Quality Management Fellowship Thursday, March 08, 2012 - S
 aturday, March 10, 2012Advanced Health Education Center Houston, Texas
  (TX), United StatesProvided by Advanced Health Education Center  CME 
 Provider: Advanced Health Education Center 8502 Tybor DriveHouston, Te
 xas (TX) 77074United States\nToll Free: (800) 239-1361Phone: (713) 772
 -0157Fax: (713) 772-0155\n\nConference Center:Advanced Health Educatio
 n Center 8502 Tybor DriveHouston, Texas (TX) 77074United States\nPhone
 : (800) 239-1361\nDescription:Quality management is of great importanc
 e for hospital and clinic-based radiology departments accredited throu
 gh the Joint Commission on Accreditation of Healthcare Organizations (
 JCAHO). Quality management is also an important part of mam-mography a
 nd compliance with the Mammography Quality Standards Act (MQSA). Quali
 ty management requires a working knowledge of the quality improvement 
 (QI) process and tools, quality control (QC), equipment testing and re
 gulatory guide-lines. You will learn the basics of the quality managem
 ent process from the theoretical to practical application. A combinati
 on of experts will introduce you to the fundamentals of QM. You will l
 earn from the pros how QM has evolved and how QI has changed. You will
  receive “hands-on” application in designing QI monitors for your 
 facility. You will learn how a well-designed QM program will improve i
 maging quality and patient care.\nIn addition to the QC testing review
 , you will participate in a field trip to perform a portion of the QC 
 tests listed in the ARRT QM clinical competencies required for the adv
 anced level QM examination. All students will progress through the app
 lication phase of training at their own rate.\nAdvanced Health can pro
 vide the opportunity to meet some of the clinical competency requireme
 nts for the ARRT Ad-vanced Level Exam for Quality Management, but cann
 ot guarantee the competency can be met. The performance of each compet
 ency is dependent upon the participant’s individual skill level.\nCo
 urse TopicsDay 1 • Physical Principles of X-ray• Principles of Com
 puted Radiography• Principles of Digital Radiography• Digital expo
 sure indicators and values• Quality Control in Radiology• ACR Mamm
 ography Quality Control Testing• Analog and digital mammography qual
 ity control testing\nDay 2• Quality Management Philosophy• Quality
  Improvement• QC Tools, Information Collection, Data analysis• Stu
 dent development of QI Monitors• Analysis of QI Monitors• Creation
  of Mock Graphs & Charts to Demonstrate the QI Monitor Process• Revi
 ew of Monitors and Charts• OSHA Standards and Guidelines• HIPAA Co
 mpliance• Safe Medical Devices Act• NCRP Rules and Regulations for
  QC\nDay 3• Radiographic Equipment Quality Control Tests – Film Ba
 sed and Electronic Images• “Hands-On” Equipment Testing• Field
  Trip to Clinical Site with the Opportunity to Perform “Hands-On” 
 QC Testing and Observe a Demonstration of QC Testing.\nYour instructor
  will be one of the following faculty members: David Clayton, BSRT, RT
 (R)(QM) Martha Riley, BS, BM, RT(R) Susan Sprinkle-Vincent, AAS, RT(R)
 (M) Lesa Mohr, RT(R)QM)\nSelf Assessment Module (SAM): No\nInstructors
 :David Clayton, MSRS, RT(R)(QM)\nSpecialty Audience:Radiology\n\nFor m
 ore information visit https://community.radrounds.com/events/quality-m
 anagement-fellowship-4
DTSTART:20120308T050000Z
DTEND:20120311T045900Z
CATEGORIES:radiology
LOCATION:Advanced Health Education Center
WEBSITE:http://aheconline.com/
URL:http://aheconline.com/
CONTACT:(800) 239-1361
ORGANIZER:Advanced Health Education Center
ATTACH;FMTTYPE="image/jpeg":
ATTENDEE;ROLE=REQ-PARTICIPANT;PARTSTAT=ACCEPTED;RSVP=TRUE;CN="radRound
 s Radiology Events":https://community.radrounds.com/profile/radRoundsR
 adiologyEvents
END:VEVENT
END:VCALENDAR
