BEGIN:VCALENDAR
PRODID:NingEventWidget-v1
VERSION:2.0
METHOD:PUBLISH
BEGIN:VEVENT
UID:1791588:Event:158551
DTSTAMP:20260422T021158Z
SUMMARY:Quality Management Exam Review
DESCRIPTION:Register early and save! Please register early and reserve
  your place by providing payment to avoid an additional $25 fee requir
 ed for registrations given within two (2) weeks of the course.\nBe pre
 pared! Not a motto just for boy scouts! Whether an advanced level exam
 ination is in your future, or you would like to formalize your underst
 anding of the theory and complex concepts of Quality Management this w
 orkshop will benefit you. The workshop provides students with a thorou
 gh review of the theory of Quality Management as well as relevant clin
 ical applications that can quickly be transferred to the workplace. Th
 e content is reflective of the ARRT content specifications and provide
 s ample opportunity for students to interact with expert QM faculty wi
 th proven success in preparing students for advanced level practice.\n
 ** Please note that this is a 12-hour course and the second day of ins
 truction ends at 12PM**\nCourse Topics\nDay 1: 8AM – 5PM\n\nTest Con
 tent Specifications\nTest Taking Techniques\nReview of Radiographic Pr
 inciples\nReview of Test Instrumentation\nQuality Control Collection a
 nd Analysis\nProgram Standards and Guidelines\n\n \nDay 2: 8AM – 12
 PM\n\nQuality Improvement Principles\nReview/Questions and Answers\n\n
 Instructor: David Clayton, MSRS, RT(R)(QM)\n\n\nFor more information 
 visit https://community.radrounds.com/events/quality-management-exam-r
 eview
DTSTART:20151106T050000Z
DTEND:20151108T045900Z
CATEGORIES:seminar
LOCATION:AHEC
WEBSITE:https://store.aheconline.com/index.php?route=product/product&f
 ilter_name=QUALITY%20MANAGEMENT%20EXAM%20REVIEW&product_id=1542
URL:https://store.aheconline.com/index.php?route=product/product&filte
 r_name=QUALITY%20MANAGEMENT%20EXAM%20REVIEW&product_id=1542
CONTACT:713-772-0157
ORGANIZER;CN="Larry Carney":https://community.radrounds.com/profile/La
 rryCarney
ATTACH;FMTTYPE="image/jpeg":
ATTENDEE;ROLE=REQ-PARTICIPANT;PARTSTAT=ACCEPTED;RSVP=TRUE;CN="Larry Ca
 rney":https://community.radrounds.com/profile/LarryCarney
END:VEVENT
END:VCALENDAR
