BEGIN:VCALENDAR
PRODID:NingEventWidget-v1
VERSION:2.0
METHOD:PUBLISH
BEGIN:VEVENT
UID:1791588:Event:158760
DTSTAMP:20260422T015514Z
SUMMARY:Quality Management Exam Review
DESCRIPTION:Be prepared! Not a motto just for boy scouts! Whether an a
 dvanced level examination is in your future, or you would like to form
 alize your understanding of the theory and complex concepts of Quality
  Management this workshop will benefit you. The workshop provides stud
 ents with a thorough review of the theory of Quality Management as wel
 l as relevant clinical applications that can quickly be transferred to
  the workplace. The content is reflective of the ARRT content specific
 ations and provides ample opportunity for students to interact with ex
 pert QM faculty with proven success in preparing students for advanced
  level practice.\n** Please note that this is a 12-hour course and the
  second day of instruction ends at 12PM**\nCourse Topics\nDay 1: 8AM â
 €“ 5PM\n\nTest Content Specifications\nTest Taking Techniques\nReview 
 of Radiographic Principles\nReview of Test Instrumentation\nQuality Co
 ntrol Collection and Analysis\nProgram Standards and Guidelines\n\nÂ \
 nDay 2: 8AM â€“ 12PM\n\nQuality Improvement Principles\nReview/Questio
 ns and Answers\n\nInstructor:Â David Clayton, MSRS, RT(R)(QM)\n\nFor m
 ore information visit https://community.radrounds.com/events/quality-m
 anagement-exam-review-1
DTSTART:20150206T050000Z
DTEND:20150208T045900Z
CATEGORIES:ahec
LOCATION:AHEC
WEBSITE:https://store.aheconline.com/index.php?route=product/product&f
 ilter_name=QUALITY%20MANAGEMENT%20EXAM%20REVIEW&product_id=1542
URL:https://store.aheconline.com/index.php?route=product/product&filte
 r_name=QUALITY%20MANAGEMENT%20EXAM%20REVIEW&product_id=1542
CONTACT:713-772-0157
ORGANIZER;CN="Larry Carney":https://community.radrounds.com/profile/La
 rryCarney
ATTACH;FMTTYPE="image/jpeg":
ATTENDEE;ROLE=REQ-PARTICIPANT;PARTSTAT=ACCEPTED;RSVP=TRUE;CN="Larry Ca
 rney":https://community.radrounds.com/profile/LarryCarney
END:VEVENT
END:VCALENDAR
