BEGIN:VCALENDAR
PRODID:NingEventWidget-v1
VERSION:2.0
METHOD:PUBLISH
BEGIN:VEVENT
UID:1791588:Event:182812
DTSTAMP:20260422T195200Z
SUMMARY:Preventing Patient Violence in Radiology (Live Webinar)
DESCRIPTION:\nCourse Topics\n\nWorkplace Violence\nDefinition\nPhysica
 l\nThreats\n\n\nExamples from OSHA, NIOSH, and CDC\n\n\nStatistics\nIn
 juries\nDeaths\nExamples from BLS and OSHA\nHealth Care compared to ot
 her Professions\n\n\nHow to Recognize Violent Customers\nDefinition of
  customers\nWhere violence occurs\nWhen violence occurs\nTriggers\n\n\
 nRadiology Survey on Reporting\nStatistics\nExamples of Violence\n\n\n
 Prevention Strategies\nWarning signs\nPatients\nEmployees\nFamily\n\n\
 nCost analysis\nOSHA suggestions\nEnvironmental Design\nAdministrative
  Controls\nBehavior Modifications\n\n\n\n\n\n\nFor more information vi
 sit https://community.radrounds.com/events/preventing-patient-violence
 -in-radiology-live-webinar
DTSTART:20180709T180000Z
DTEND:20180709T190000Z
CATEGORIES:live, webinar
LOCATION:Advanced Health Education Center
WEBSITE:https://store.aheconline.com/
URL:https://store.aheconline.com/
CONTACT:800-239-1361
ORGANIZER;CN="Larry Carney":https://community.radrounds.com/profile/La
 rryCarney
ATTACH;FMTTYPE="image/jpeg":
ATTENDEE;ROLE=REQ-PARTICIPANT;PARTSTAT=ACCEPTED;RSVP=TRUE;CN="Larry Ca
 rney":https://community.radrounds.com/profile/LarryCarney
END:VEVENT
END:VCALENDAR
