BEGIN:VCALENDAR
PRODID:NingEventWidget-v1
VERSION:2.0
METHOD:PUBLISH
BEGIN:VEVENT
UID:1791588:Event:183359
DTSTAMP:20260425T150750Z
SUMMARY:Preventing Patient Violence in Radiology (Live Webinar)
DESCRIPTION:Course Topics\n\nWorkplace Violence\nDefinition\nExamples 
 from OSHA, NIOSH, and CDC\n\n\nStatistics\nInjuries\nDeaths\nExamples 
 from BLS and OSHA\nHealth Care compared to other Professions\n\n\nHow 
 to Recognize Violent Customers\nDefinition of customers\nWhere violenc
 e occurs\nWhen violence occurs\nTriggers\n\n\nRadiology Survey on Repo
 rting\nStatistics\nExamples of Violence\n\n\nPrevention Strategies\nWa
 rning signs\nPatients\nEmployees\nFamily\n\n\nCost analysis\nOSHA sugg
 estions\nEnvironmental Design\nAdministrative Controls\nBehavior Modif
 ications\n\n\n\n\n\n\nFor more information visit https://community.rad
 rounds.com/events/preventing-patient-violence-in-radiology-live-webina
 r-4
DTSTART:20180813T170000Z
DTEND:20180813T180000Z
CATEGORIES:live, webinar
LOCATION:Advanced Health Education Center
WEBSITE:https://store.aheconline.com/
URL:https://store.aheconline.com/
CONTACT:800-239-1361
ORGANIZER;CN="Larry Carney":https://community.radrounds.com/profile/La
 rryCarney
ATTACH;FMTTYPE="image/jpeg":
ATTENDEE;ROLE=REQ-PARTICIPANT;PARTSTAT=ACCEPTED;RSVP=TRUE;CN="Larry Ca
 rney":https://community.radrounds.com/profile/LarryCarney
END:VEVENT
END:VCALENDAR
