BEGIN:VCALENDAR
PRODID:NingEventWidget-v1
VERSION:2.0
METHOD:PUBLISH
BEGIN:VEVENT
UID:1791588:Event:183527
DTSTAMP:20260425T230443Z
SUMMARY:Preventing Patient Violence in Radiology (Live Webinar)
DESCRIPTION:\nWorkplace Violence\nDefinition\nPhysical\nThreats\n\n\nE
 xamples from OSHA, NIOSH, and CDC\n\n\nStatistics\nInjuries\nDeaths\nE
 xamples from BLS and OSHA\nHealth Care compared to other Professions\n
 \n\nHow to Recognize Violent Customers\nDefinition of customers\nWhere
  violence occurs\nWhen violence occurs\nTriggers\n\n\nRadiology Survey
  on Reporting\nStatistics\nExamples of Violence\n\n\nPrevention Strate
 gies\nWarning signs\nPatients\nEmployees\nFamily\n\n\nCost analysis\nO
 SHA suggestions\nEnvironmental Design\nAdministrative Controls\nBehavi
 or Modifications\n\n\n\n\n\n\nFor more information visit https://commu
 nity.radrounds.com/events/preventing-patient-violence-in-radiology-liv
 e-webinar-3
DTSTART:20180806T170000Z
DTEND:20180806T180000Z
CATEGORIES:live, webinar
LOCATION:Advanced Health Education Center
WEBSITE:https://store.aheconline.com/
URL:https://store.aheconline.com/
CONTACT:800-239-1361
ORGANIZER;CN="Larry Carney":https://community.radrounds.com/profile/La
 rryCarney
ATTACH;FMTTYPE="image/jpeg":
ATTENDEE;ROLE=REQ-PARTICIPANT;PARTSTAT=ACCEPTED;RSVP=TRUE;CN="Larry Ca
 rney":https://community.radrounds.com/profile/LarryCarney
END:VEVENT
END:VCALENDAR
