BEGIN:VCALENDAR
PRODID:NingEventWidget-v1
VERSION:2.0
METHOD:PUBLISH
BEGIN:VEVENT
UID:1791588:Event:183139
DTSTAMP:20260423T234230Z
SUMMARY:Preventing Patient Violence in Radiology (Live Webinar)
DESCRIPTION:Course Topics\n\nWorkplace Violence\nDefinition\nPhysical\
 nThreats\n\n\nExamples from OSHA, NIOSH, and CDC\n\n\nStatistics\nInju
 ries\nDeaths\nExamples from BLS and OSHA\nHealth Care compared to othe
 r Professions\n\n\nHow to Recognize Violent Customers\nDefinition of c
 ustomers\nWhere violence occurs\nWhen violence occurs\nTriggers\n\n\nR
 adiology Survey on Reporting\nStatistics\nExamples of Violence\n\n\nPr
 evention Strategies\nWarning signs\nPatients\nEmployees\nFamily\n\n\nC
 ost analysis\nOSHA suggestions\nEnvironmental Design\nAdministrative C
 ontrols\nBehavior Modifications\n\n\n\n\n\n\nFor more information visi
 t https://community.radrounds.com/events/preventing-patient-violence-i
 n-radiology-live-webinar-1
DTSTART:20180719T180000Z
DTEND:20180719T190000Z
CATEGORIES:live, webinar
LOCATION:Advanced Health Education Center
WEBSITE:https://store.aheconline.com/
URL:https://store.aheconline.com/
CONTACT:7137720157
ORGANIZER;CN="Larry Carney":https://community.radrounds.com/profile/La
 rryCarney
ATTACH;FMTTYPE="image/jpeg":
ATTENDEE;ROLE=REQ-PARTICIPANT;PARTSTAT=ACCEPTED;RSVP=TRUE;CN="Larry Ca
 rney":https://community.radrounds.com/profile/LarryCarney
END:VEVENT
END:VCALENDAR
