BEGIN:VCALENDAR
PRODID:NingEventWidget-v1
VERSION:2.0
METHOD:PUBLISH
BEGIN:VEVENT
UID:1791588:Event:116061
DTSTAMP:20260423T171645Z
SUMMARY:Point of Care Ultrasound: Introduction
DESCRIPTION:Point of Care Ultrasound: Introduction Tuesday, March 27, 
 2012 - Thursday, March 29, 2012Advanced Health Education Center Housto
 n, Texas (TX), United StatesProvided by Advanced Health Education Cent
 er  CME Provider: Advanced Health Education Center 8502 Tybor DriveHou
 ston, Texas (TX) 77074United States\nToll Free: (800) 239-1361Phone: (
 713) 772-0157Fax: (713) 772-0155\nConference Center:Advanced Health Ed
 ucation Center 8502 Tybor DriveHouston, Texas (TX) 77074United StatesP
 hone: (800) 239-1361\nDescription:Appropriate use of ultrasound at the
  point of care can decrease medical errors, provide more efficient rea
 l-time diagnosis and supplement or replace more advanced imaging in ap
 propriate situations. Ultrasound, when used at the point of care, faci
 litates collaboration and efficient care by yielding immediate finding
 s that can lead to high value referrals. In cases when advanced diagno
 stic imaging is medically warranted this allows better targeting of di
 agnostic studies. Ultrasound should be employed for procedural guidanc
 e. Expansion of ultrasound to include the echo applications has been t
 he fastest growing application. Ultrasound enables immediate diagnosis
  and accelerates treatment sometimes sparing the patient the cost of a
  more expensive procedure.\nIn healthcare we are advocating for Value-
 based health care where the key goal is to improve patient outcomes pe
 r dollar spent. Through more than a half century of use to aid diagnos
 is and guide procedures, ultrasound has demonstrated in both studies a
 nd clinical practice that it can—and does—deliver proven value whe
 n available for use at the point of care. It is the most safe and cost
 -effective technology available for diagnosis. Having the skills to pe
 rform focused evaluations of the abdomen, chest, first trimester pregn
 ancy and heart are necessary for today’s physicians. Participants in
  this course will benefit from “hands on scan labs” where scanning
  live models or phantoms to simulate pathology will develop your diagn
 ostic skills.\nTarget AudienceEmergency Medicine Physicians, Trauma Su
 rgeons, Critical Care Physicians, Intensivists, Internal Medicine and 
 Family Practice Physicians, Nurses, and first responders who will be p
 erforming and interpreting point of care ultrasound examinations.\nCME
  Credits“The Advanced Health Education Center, Ltd. is accredited by
  the Accreditation Council for Continuing Medical Education to provide
  continuing medical education for physicians.” “The Advanced Healt
 h Education Center, Ltd. designates this educational activity for a ma
 ximum of 24 hours AMA PRA Category I™. Physician should claim credit
  commensurate with the extent of their participation in the activity.
 \nCourse DirectorSamuel Morale MD.\nFacultyThomas Whelan, RT(R), RDM
 S, RDCS, RVT, FASEDates/Locations (All held in Houston, TX)Hours 8-5\n
 Class size is limited to maximize personal instruction between instruc
 tor and student. All instruction is instructor directed. Fee $1,485 Fe
 e includes learning materials, lecture, and scanning laboratory. Stude
 nts are responsible for their textbooks, housing, and transportation.\
 nSelf Assessment Module (SAM): No\nInstructors:Thomas Whelan, IIIRT(R)
 ,RDMS,RDCS,RVT,FASE\nSpecialty Audience:Radiology\n\nFor more informat
 ion visit https://community.radrounds.com/events/point-of-care-ultraso
 und-introduction
DTSTART:20120327T040000Z
DTEND:20120330T035900Z
CATEGORIES:radiology
LOCATION:Advanced Health Education Cente
WEBSITE:http://aheconline.com/
URL:http://aheconline.com/
CONTACT:(800) 239-1361
ORGANIZER:Advanced Health Education Center
ATTACH;FMTTYPE="image/jpeg":
ATTENDEE;ROLE=REQ-PARTICIPANT;PARTSTAT=ACCEPTED;RSVP=TRUE;CN="radRound
 s Radiology Events":https://community.radrounds.com/profile/radRoundsR
 adiologyEvents
END:VEVENT
END:VCALENDAR
