BEGIN:VCALENDAR
PRODID:NingEventWidget-v1
VERSION:2.0
METHOD:PUBLISH
BEGIN:VEVENT
UID:1791588:Event:170230
DTSTAMP:20260423T235336Z
SUMMARY:Physics & Musculoskeletal Ultrasound Registry Review Course
DESCRIPTION:The Combined Physics & Musculoskeletal Ultrasound Registry
  Review Course offers a comprehensive review for those preparing to ta
 ke the ARDMS RMSK & RMSKS certification exams. Since the content outli
 ne for the physician exam was recently changed to include 26% physics,
  get all of the information you need to pass the exam with a full day 
 of physics review then two days focused on MSK. If you’re a sonograp
 her studying for the exam, it also provides as a great physics refresh
 er. The MSK registry review course is taught by leading experts in the
  musculoskeletal ultrasound profession and includes interactive lectur
 es, case studies, and mock registry exams using an interactive Audienc
 e Response System.\nPhysics Objectives\n\nIncrease the participants’
  knowledge to better perform diagnostic ultrasound examinations.\nStat
 e the elementary principles of ultrasound including definition of ultr
 asound, basic properties and units of measure.\nDescribe the fundament
 al principles of sound and the propagation of sound in soft-tissue.\nC
 ite the different types of transducers, focusing, sound beam formation
  and the various types of resolution including: axial, lateral, contra
 st and temporal\nRecognize components and terminology of ultrasound eq
 uipment and instrumentation.\nList the advantages of Doppler, Color Fl
 ow and Color Power Imaging.\nDifferentiate imaging artifacts by their 
 cause and characteristic appearance\nApply statistical test correlatio
 n and test validation using CHI Square principles regarding sensitivit
 y, specificity and overall test accuracy.\nOutline safety, quality con
 trol, quality assurance and bioeffects concerns regarding operation an
 d maintenance of ultrasound equipment.\nIdentify areas of weakness tha
 t require additional self-study to successful pass the ultrasound boar
 d examination offered by ARDMS, CCI or ARRT.\n\n \nMSK Objectives\n\n
 Increase the participant’s knowledge to better perform and/or interp
 ret MSK ultrasound examinations.\nOutline appropriate transducer selec
 tion, system optimization, and identify commonly seen artifacts associ
 ated with MSK ultrasound.\nState scanning protocols for performing sho
 ulder, elbow, wrist/hand, knee, ankle, foot and hip ultrasound examina
 tions.\nIdentify normal anatomy during musculoskeletal ultrasound imag
 ing.\nRecognize ultrasound characteristics of commonly seen pathology 
 of the shoulder, knee, elbow, wrist hand, ankle, foot, and hip.\nOutli
 ne the use of MSK sonography for diagnosis and treatment options, incl
 uding ultrasound-guided interventions.\nIntegrate all patient and imag
 ing data for effective analysis of examination results.\n8Identify are
 as of that may require further study\n9Increase knowledge and competen
 ce for successful registry examination completion\n\n\nPhysics Topics\
 n\nEssentials of Diagnostic Ultrasound\nUltrasound Physical Principles
 \nPulse Echo Instrumentation, Storage and Display\nPropagation of Ultr
 asound Through Tissue\nTransducers\nImage Controls\nDoppler Instrument
 ation and Hemodynamics\nImaging Artifacts\nQuality Assurance and Safet
 y\n\n\n \nMSK Topics\n\nUpper & Lower Extremity Joints\nAnatomy & Phy
 siology\nScan Protocols & Normal Sonographic Characteristics\nPatholog
 y\nIntegration of Data\nInterventional Procedures\nCase Studies\nInter
 active Mock Exams and Q&A Sessions\n\n\nFor more information visit htt
 ps://community.radrounds.com/events/physics-musculoskeletal-ultrasound
 -registry-review-course
DTSTART:20170925T110000Z
DTEND:20170927T210000Z
CATEGORIES:cme, conference
LOCATION:Gulfcoast Ultrasound Institute
WEBSITE:https://www.gcus.com/courses/about.asp?course=1136/Physics-and
 -Musculoskeletal-Ultrasound-Registry-Review-Course
URL:https://www.gcus.com/courses/about.asp?course=1136/Physics-and-Mus
 culoskeletal-Ultrasound-Registry-Review-Course
CONTACT:17273634500
ORGANIZER:GCUS
ATTACH;FMTTYPE="image/jpeg":http://storage.ning.com/topology/rest/1.0/
 file/get/1044771917?profile=original
ATTENDEE;ROLE=REQ-PARTICIPANT;PARTSTAT=ACCEPTED;RSVP=TRUE;CN="Casey Gr
 een":https://community.radrounds.com/profile/JamesSalame
END:VEVENT
END:VCALENDAR
