BEGIN:VCALENDAR
PRODID:NingEventWidget-v1
VERSION:2.0
METHOD:PUBLISH
BEGIN:VEVENT
UID:1791588:Event:121977
DTSTAMP:20260420T001711Z
SUMMARY:Peripheral Venous Evaluation
DESCRIPTION:Target Audience: All registered sonographers, student sono
 graphers, and radiologic technologists who desire entry level training
  with vascular ultrasound.\n \nOverall goal of activity: To enhance t
 he knowledge and skills in the areas of vascular technology, sonograph
 ic principles and instrumention, and other topics related to sonograph
 y\n \nDescription: - This course focuses on the technical aspects of 
 ultrasound assessment of extremity venous system including diagnosis o
 f venous thrombosis, venous insufficiency and non-vascular pathology f
 ound during venous examination. Topics will include an introduction to
  ultrasound physics and its specific application to venous hemodynamic
 s, anatomy of lower and upper extremity venous systems, mechanisms of 
 disease, pitfalls of venous duplex, and scanning tips. \n \nUpon com
 pletion of this course, the participant will be able to:\n\nDescribe g
 eneral Doppler physics principles associated with peripheral venous he
 modynamics\nIdentify the difference between normal and abnormal venous
  imaging spectral analysis\nDescribe the anatomy encountered during a 
 venous duplex imaging examination\nExplain the signs and symptoms asso
 ciated with venous disease\nIdentify the ultrasound appearance of norm
 al venous anatomy and blood flow.\nDemonstrate optimal scanning techni
 ques and proficiency in “knobology” through application of Doppler
  principles\nDescribed the characteristics of the venous Doppler signa
 ls obtained during venous duplex imaging\nDefine and become familiar w
 ith different venous disease states.\n\nApproved for up to 24 SDMS CME
 s\nSDMS CMEs accepted as ARRT Category A credits\n\n\nFor more informa
 tion visit https://community.radrounds.com/events/peripheral-venous-ev
 aluation
DTSTART:20120627T120000Z
DTEND:20120629T210000Z
CATEGORIES:course
LOCATION:Crowne Plaza Hampton Marina Hotel - Dockside Ballroom
WEBSITE:http://www.uiseducation.net
URL:http://www.uiseducation.net
CONTACT:1-888-246-3091
ORGANIZER;CN="Alphonzo Smalls":https://community.radrounds.com/profile
 /AlphonzoSmalls
ATTACH;FMTTYPE="image/jpeg":http://storage.ning.com/topology/rest/1.0/
 file/get/1044743887?profile=original
ATTENDEE;ROLE=REQ-PARTICIPANT;PARTSTAT=ACCEPTED;RSVP=TRUE;CN="Alphonzo
  Smalls":https://community.radrounds.com/profile/AlphonzoSmalls
END:VEVENT
END:VCALENDAR
