BEGIN:VCALENDAR
PRODID:NingEventWidget-v1
VERSION:2.0
METHOD:PUBLISH
BEGIN:VEVENT
UID:1791588:Event:121975
DTSTAMP:20260420T050404Z
SUMMARY:Peripheral Venous Evaluation - Power Course
DESCRIPTION:Target Audience: All registered sonographers, student sono
 graphers, and radiologic technologists who desire entry level training
  with vascular ultrasound.\n \nOverall goal of activity: Designed to 
 enhance the knowledge and skills in the areas of vascular technology b
 y introducing participants to laboratory acceptable scanning protocols
  and extensive hands-on training.\n \nDescription: - This one day, no
 n-physics designed course focuses on the technical aspects of ultrasou
 nd assessment of extremity venous system using various scanning protoc
 ols, scanning tips and common pitfalls encountered with venous ultraso
 und scanning. Emphasis will be placed on developing scanning skills th
 rough hands-on scanning clinics. \n \nUpon completion of this course
 , the participant will be able to:\n\nDescribe various venous scanning
  protocols\nIdentify the anatomy encountered during a venous duplex im
 aging examination\nDemonstrate optimal scanning techniques and profici
 ency in “knobology” through application of Doppler principles\nDes
 cribed the characteristics of the venous Doppler signals obtained duri
 ng venous duplex imaging\nDefine and become familiar with different ve
 nous disease states.\n\nApproved for 6.5 SDMS CMEs\nSDMS credits accep
 ted as ARRT category A\n\nFor more information visit https://community
 .radrounds.com/events/peripheral-venous-evaluation-power-course
DTSTART:20120623T120000Z
DTEND:20120623T210000Z
CATEGORIES:course
LOCATION:Crowne Plaza Hampton Marina Hotel - Dockside Ballroom
WEBSITE:http://www.uiseducation.net
URL:http://www.uiseducation.net
CONTACT:1-888-246-3091
ORGANIZER;CN="Alphonzo Smalls":https://community.radrounds.com/profile
 /AlphonzoSmalls
ATTACH;FMTTYPE="image/jpeg":http://storage.ning.com/topology/rest/1.0/
 file/get/1044743814?profile=original
ATTENDEE;ROLE=REQ-PARTICIPANT;PARTSTAT=ACCEPTED;RSVP=TRUE;CN="Alphonzo
  Smalls":https://community.radrounds.com/profile/AlphonzoSmalls
END:VEVENT
END:VCALENDAR
