BEGIN:VCALENDAR
PRODID:NingEventWidget-v1
VERSION:2.0
METHOD:PUBLISH
BEGIN:VEVENT
UID:1791588:Event:172719
DTSTAMP:20260419T223527Z
SUMMARY:Peripheral Arterial Ultrasound (Live Event)
DESCRIPTION:Vascular ultrasound has progressed over the years to becom
 e much more than a screening tool. From its early beginnings of grainy
  black and white two dimensional images, to the addition of Doppler an
 d color flow, it has become the modality of choice for early detection
  of peripheral arterial, cerebrovascular, and venous disease. For the 
 detection of DVT and venous reflux, duplex testing is now the gold sta
 ndard other modalities are compared to. Accurate diagnostic testing of
  the vascular system requires a comprehensive understanding of anatomy
  and hemodynamics as well as the various pathological conditions that 
 can present. Multiple variables such as cardiac output, dehydration, a
 nd infection can all have an impact on the vascular system.\nThis two-
 day seminar provides a overview of physics and instrumentation, anatom
 y and hemodynamics, and diagnostic criteria suitable for anyone from a
 n experienced sonographer to the beginner. For the physician wanting a
  more thorough understanding of the capabilities and potential of the 
 vascular lab, along with interpretative criteria, our extensive librar
 y of case studies will prove invaluable. Our scan lab and state of the
  art equipment, along with our low student instructor ratios allow you
  plenty of time to perfect your protocol, and acquire the scanning exp
 erience necessary to perform diagnostic vascular exams.\n\nFor more in
 formation visit https://community.radrounds.com/events/peripheral-arte
 rial-ultrasound-live-event-1
DTSTART:20171130T130000Z
DTEND:20171201T220000Z
CATEGORIES:live, event
LOCATION:Advanced Health Education Center
WEBSITE:https://store.aheconline.com/index.php?route=product/product&p
 ath=59&product_id=2820
URL:https://store.aheconline.com/index.php?route=product/product&path=
 59&product_id=2820
CONTACT:800-239-1361
ORGANIZER;CN="Larry Carney":https://community.radrounds.com/profile/La
 rryCarney
ATTACH;FMTTYPE="image/jpeg":
ATTENDEE;ROLE=REQ-PARTICIPANT;PARTSTAT=ACCEPTED;RSVP=TRUE;CN="Larry Ca
 rney":https://community.radrounds.com/profile/LarryCarney
END:VEVENT
END:VCALENDAR
