BEGIN:VCALENDAR
PRODID:NingEventWidget-v1
VERSION:2.0
METHOD:PUBLISH
BEGIN:VEVENT
UID:1791588:Event:158187
DTSTAMP:20260421T061530Z
SUMMARY:Peripheral Arterial Ultrasound
DESCRIPTION:Vascular ultrasound has progressed over the years to becom
 e much more than a screening tool. From its early beginnings of grainy
  black and white two dimensional images, to the addition of Doppler an
 d color flow, it has become the modality of choice for early detection
  of peripheral arterial, cerebrovascular, and venous disease. For the 
 detection of DVT and venous reflux, duplex testing is now the gold sta
 ndard other modalities are compared to. Accurate diagnostic testing of
  the vascular system requires a comprehensive understanding of anatomy
  and hemodynamics as well as the various pathological conditions that 
 can present. Multiple variables such as cardiac output, dehydration, a
 nd infection can all have an impact on the vascular system.\nThis two-
 day seminar provides a overview of physics and instrumentation, anatom
 y and hemodynamics, and diagnostic criteria suitable for anyone from a
 n experienced sonographer to the beginner. For the physician wanting a
  more thorough understanding of the capabilities and potential of the 
 vascular lab, along with interpretative criteria, our extensive librar
 y of case studies will prove invaluable. Our scan lab and state of the
  art equipment, along with our low student instructor ratios allow you
  plenty of time to perfect your protocol, and acquire the scanning exp
 erience necessary to perform diagnostic vascular exams.\n*This course 
 can be taken individually as a two (2) day course OR part of the Vascu
 lar Ultrasound seven (7) day course.\nObjectives At the completion of 
 this course, the learner will be able to:\n\nCorrectly identify vessel
  anatomy and orientation in a vascular ultrasound examination.\nIdenti
 fy the variations in instrumentation and Doppler principles and the ef
 fects in scanning parameters.\nDescribe the flow characteristics and t
 he manifestations of disease processes.\nDiscuss QA of the procedure a
 nd equipment.\nAnalyze the results of a vascular exam for pathological
  conditions and in certain cases, quantify the diseases.\nIdentify add
 itional resource information on vascular ultrasound.\n\nCourse Topics\
 n\nDay one of this two day seminar starts with an overview of the phys
 ical principles of ultrasound including Doppler and color flow, follow
 ed by a comprehensive review of the ultrasound platform controls enabl
 ing you to optimize your system for even the most difficult patient. A
 fter lunch you will be introduced to our scan lab with state of the ar
 t equipment platforms and low student instructor ratios where you will
  learn the specific controls for each of the platforms on the floor, b
 asic scanning techniques, and patient positioning.\nDay two starts art
 erial duplex testing. Anatomy, hemodynamics, and diagnostic criteria w
 ill be covered as well as case studies, pearls and pitfalls, and stand
 ardized reporting. After lunch it’s back to the scan lab to continue
  working on protocols, technique, and documentation of your studies.\n
 \nTarget Audience Physicians who desire entry level training with vasc
 ular ultrasound, and sonographers or other health care professionals l
 earning vascular ultrasound or cross training. \n\nFor more informatio
 n visit https://community.radrounds.com/events/peripheral-arterial-ult
 rasound-6
DTSTART:20150722T120000Z
DTEND:20150723T210000Z
CATEGORIES:seminar
LOCATION:Advanced Health Education Center
WEBSITE:https://store.aheconline.com/index.php?route=product/product&f
 ilter_name=peripheral%20arterial%20ultrasound&product_id=1030
URL:https://store.aheconline.com/index.php?route=product/product&filte
 r_name=peripheral%20arterial%20ultrasound&product_id=1030
CONTACT:713-772-0157
ORGANIZER;CN="Larry Carney":https://community.radrounds.com/profile/La
 rryCarney
ATTACH;FMTTYPE="image/jpeg":
ATTENDEE;ROLE=REQ-PARTICIPANT;PARTSTAT=ACCEPTED;RSVP=TRUE;CN="Larry Ca
 rney":https://community.radrounds.com/profile/LarryCarney
END:VEVENT
END:VCALENDAR
