BEGIN:VCALENDAR
PRODID:NingEventWidget-v1
VERSION:2.0
METHOD:PUBLISH
BEGIN:VEVENT
UID:1791588:Event:168023
DTSTAMP:20260420T130509Z
SUMMARY:Peripheral Arterial Ultrasound
DESCRIPTION:Course Topics\n\nOverview of the physical principles of ul
 trasound including Doppler and color flow\nComprehensive review of the
  ultrasound platform controls enabling you to optimize your system for
  even the most difficult patient\nArterial duplex testing\nAnatomy, he
 modynamics, and diagnostic criteria\nCase studies, pearls and pitfalls
 , and standardized reporting\nHands-on scan lab\n\n\nFor more informat
 ion visit https://community.radrounds.com/events/peripheral-arterial-u
 ltrasound-18
DTSTART:20160728T120000Z
DTEND:20160729T210000Z
CATEGORIES:live, event
LOCATION:Houston
WEBSITE:https://store.aheconline.com/index.php?route=product/product&p
 ath=59_83&product_id=2221
URL:https://store.aheconline.com/index.php?route=product/product&path=
 59_83&product_id=2221
CONTACT:18002391361
ORGANIZER;CN="Larry Carney":https://community.radrounds.com/profile/La
 rryCarney
ATTACH;FMTTYPE="image/jpeg":
ATTENDEE;ROLE=REQ-PARTICIPANT;PARTSTAT=ACCEPTED;RSVP=TRUE;CN="Larry Ca
 rney":https://community.radrounds.com/profile/LarryCarney
END:VEVENT
END:VCALENDAR
