BEGIN:VCALENDAR
PRODID:NingEventWidget-v1
VERSION:2.0
METHOD:PUBLISH
BEGIN:VEVENT
UID:1791588:Event:172077
DTSTAMP:20260422T044256Z
SUMMARY:Perfect Partnership: Forensics & Radiology (Live Simulcast)
DESCRIPTION:Course Description:\nYou are in for a real treat!  Dr. Br
 own will share his expertise in Forensic Radiology with you during thi
 s most sought after course.  You will learn how radiographic forensic
 s is used to solve crimes, identify the deceased, and prove child abus
 e.  Dr. Brown will share his experience with virtual autopsy and its 
 impact on the future of legal medicine.\n\nFor more information visit 
 https://community.radrounds.com/events/perfect-partnership-forensics-r
 adiology-live-simulcast
DTSTART:20170506T130000Z
DTEND:20170506T203000Z
CATEGORIES:live, simulcast
LOCATION:Advanced Health Education Center
WEBSITE:https://store.aheconline.com/index.php?route=product/product&p
 ath=59_167&product_id=2933
URL:https://store.aheconline.com/index.php?route=product/product&path=
 59_167&product_id=2933
CONTACT:800-239-1361
ORGANIZER;CN="Larry Carney":https://community.radrounds.com/profile/La
 rryCarney
ATTACH;FMTTYPE="image/jpeg":
ATTENDEE;ROLE=REQ-PARTICIPANT;PARTSTAT=ACCEPTED;RSVP=TRUE;CN="Larry Ca
 rney":https://community.radrounds.com/profile/LarryCarney
END:VEVENT
END:VCALENDAR
