BEGIN:VCALENDAR
PRODID:NingEventWidget-v1
VERSION:2.0
METHOD:PUBLISH
BEGIN:VEVENT
UID:1791588:Event:180987
DTSTAMP:20260424T034017Z
SUMMARY:Pediatric Ultrasound Registry Review
DESCRIPTION:Pediatric Ultrasound Registry Review Course provides a com
 prehensive review with topics based on ARDMS exam content outlines for
  successfully completing the pediatric certification exam. This course
 s is taught by leading pediatric ultrasound experts in the pediatric u
 ltrasound profession and is specifically designed for physicians, sono
 graphers and other medical professionals who need pediatric ultrasound
  registry preparation. To guarantee the highest industry exam pass rat
 e, this course entails interactive lectures, case studies, and live, i
 nteractive mock registry exams using an interactive Audience Response 
 System at our facility in St. Petersburg, FL. All participants will re
 ceive a bonus 5 day access to the online registry review course. (Only
  offered by Gulfcoast Ultrasound Institute)\n\nFor more information vi
 sit https://community.radrounds.com/events/pediatric-ultrasound-regist
 ry-review
DTSTART:20180723T110000Z
DTEND:20180724T210000Z
CATEGORIES:live, cme, seminar
LOCATION:Gulfcoast Ultrasound Institute
WEBSITE:https://www.gcus.com/
URL:https://www.gcus.com/
CONTACT:7273634500
ORGANIZER:Gulfcoast Ultrasound Institute, Inc
ATTACH;FMTTYPE="image/jpeg":http://storage.ning.com/topology/rest/1.0/
 file/get/1044776047?profile=original
ATTENDEE;ROLE=REQ-PARTICIPANT;PARTSTAT=ACCEPTED;RSVP=TRUE;CN="Casey Gr
 een":https://community.radrounds.com/profile/JamesSalame
END:VEVENT
END:VCALENDAR
