BEGIN:VCALENDAR
PRODID:NingEventWidget-v1
VERSION:2.0
METHOD:PUBLISH
BEGIN:VEVENT
UID:1791588:Event:190721
DTSTAMP:20260421T061510Z
SUMMARY:Pediatric Trauma and Safety (Live Webinar)
DESCRIPTION:Course Topics\n\nTrauma Imaging Modalities\nEmergency Room
  Imaging Concerns\nChild Abuse Case Concerns\nRadiation Protection\nPe
 diatric\nFetal\n\n\nTechniques in Imaging\nImmobilization and Sedation
 \nMost Common Pediatric Trauma Injuries\nX-ray Clues to Pediatric Frac
 tures\nDigital Radiography Tools and Techniques\nFluoroscopic Safety a
 nd Optimization\n\nCourse Objectives:\n \n\nDescribe how different im
 aging modalities are used to demonstrate pediatric trauma\nRelate how 
 to communicate with pediatric patients and their parents based upon ag
 e and circumstance.\nDiscuss how child abuse can be demonstrated throu
 gh imaging\nName different methods and techniques associated with the 
 technical challenges of imaging pediatric patients.\nDiscuss immobiliz
 ation and sedation techniques for pediatrics\nDiscuss methods to analy
 ze medical images related to pediatric traumatic fracture\n Demonstra
 te methods of pediatric radiation dose management in digital radiograp
 hy and fluoroscopic imaging.\nIdentify imaging practices specific to t
 he pediatric population.\nUnderstand how optimization of each step in 
 the imaging process can reduce patient exposure\n\n\nFor more informat
 ion visit https://community.radrounds.com/events/pediatric-trauma-and-
 safety-live-webinar
DTSTART:20190603T220000Z
DTEND:20190604T010000Z
CATEGORIES:live, webinar
LOCATION:Advance Health Education Center
WEBSITE:https://store.aheconline.com
URL:https://store.aheconline.com
CONTACT:1(800) 239-1361
ORGANIZER:AHEC
ATTACH;FMTTYPE="image/jpeg":
ATTENDEE;ROLE=REQ-PARTICIPANT;PARTSTAT=ACCEPTED;RSVP=TRUE;CN="Larry Ca
 rney":https://community.radrounds.com/profile/LarryCarney
END:VEVENT
END:VCALENDAR
