BEGIN:VCALENDAR
PRODID:NingEventWidget-v1
VERSION:2.0
METHOD:PUBLISH
BEGIN:VEVENT
UID:1791588:Event:163837
DTSTAMP:20260423T134143Z
SUMMARY:Pediatric Sonography Registry Review
DESCRIPTION:The Pediatric Ultrasound Registry Review Course provides a
  comprehensive review for successfully completing the certification ex
 am. The pediatric registry review is taught by leading experts in the 
 pediatric ultrasound profession and includes interactive lectures, cas
 e studies, and mock registry exams using an interactive Audience Respo
 nse System.\n\nFor more information visit https://community.radrounds.
 com/events/pediatric-sonography-registry-review-1
DTSTART:20160212T050000Z
DTEND:20160214T045900Z
CATEGORIES:ultrasound, cme, seminar
LOCATION:Gulfcoast Ultrasound Institute, Inc.
WEBSITE:https://www.gcus.com/courses/about.asp?course=926/Pediatric-So
 nography-Registry-Review
URL:https://www.gcus.com/courses/about.asp?course=926/Pediatric-Sonogr
 aphy-Registry-Review
CONTACT:7273634500
ORGANIZER;CN="Casey Green":https://community.radrounds.com/profile/Jam
 esSalame
ATTACH;FMTTYPE="image/jpeg":
ATTENDEE;ROLE=REQ-PARTICIPANT;PARTSTAT=ACCEPTED;RSVP=TRUE;CN="Casey Gr
 een":https://community.radrounds.com/profile/JamesSalame
END:VEVENT
END:VCALENDAR
