BEGIN:VCALENDAR
PRODID:NingEventWidget-v1
VERSION:2.0
METHOD:PUBLISH
BEGIN:VEVENT
UID:1791588:Event:164715
DTSTAMP:20260421T113801Z
SUMMARY:Pediatric Emergency & Critical Care Ultrasound
DESCRIPTION:This Pediatric Emergency and Critical Care course is desig
 ned to increase the participant’s knowledge and competence to perfor
 m and interpret pediatric ultrasound examinations. This course is taug
 ht by leading pediatric emergency and critical care ultrasound experts
  and includes lectures, interactive case presentations, and extensive 
 hands-on scanning, featuring a 3:1 ratio with live models and inanimat
 e phantoms.\n\nFor more information visit https://community.radrounds.
 com/events/pediatric-emergency-critical-care-ultrasound-2
DTSTART:20160623T040000Z
DTEND:20160625T035900Z
CATEGORIES:ultrasound, cme, seminar
LOCATION:Gulfcoast Ultrasound Institute, Inc.
WEBSITE:https://www.gcus.com/courses/about.asp?course=938/Pediatric-Em
 ergency-and-Critical-Care-Ultrasound
URL:https://www.gcus.com/courses/about.asp?course=938/Pediatric-Emerge
 ncy-and-Critical-Care-Ultrasound
CONTACT:800-619-1900
ORGANIZER;CN="Casey Green":https://community.radrounds.com/profile/Jam
 esSalame
ATTACH;FMTTYPE="image/jpeg":
ATTENDEE;ROLE=REQ-PARTICIPANT;PARTSTAT=ACCEPTED;RSVP=TRUE;CN="Casey Gr
 een":https://community.radrounds.com/profile/JamesSalame
END:VEVENT
END:VCALENDAR
