BEGIN:VCALENDAR
PRODID:NingEventWidget-v1
VERSION:2.0
METHOD:PUBLISH
BEGIN:VEVENT
UID:1791588:Event:185539
DTSTAMP:20260421T161814Z
SUMMARY:Pediatric Emergency &amp; Critical Care Ultrasound
DESCRIPTION:Pediatric Emergency and Critical Care Ultrasound Live Trai
 ning Course is designed to increase the participant’s knowledge and 
 competence to perform and interpret pediatric ultrasound examinations 
 in an emergency or critical care setting. The Pediatric Emergency and 
 Critical Care Ultrasound Course is taught by leading pediatric emergen
 cy and critical care ultrasound experts. The Pediatric Emergency and C
 ritical Care Ultrasound Course includes lectures, interactive case pre
 sentations, and extensive hands-on scanning, featuring a 3:1 ratio wit
 h live pediatric models and inanimate phantoms.\n\nFor more informatio
 n visit https://community.radrounds.com/events/pediatric-emergency-amp
 -critical-care-ultrasound
DTSTART:20190610T123000Z
DTEND:20190611T203000Z
CATEGORIES:blended, cme, course
LOCATION:Gulfcoast Ultrasound Institute
WEBSITE:https://www.gcus.com/
URL:https://www.gcus.com/
CONTACT:727-363-4500
ORGANIZER:Gulfcoast Ultrasound Institute, Inc
ATTACH;FMTTYPE="image/jpeg":https://storage.ning.com/topology/rest/1.0
 /file/get/309386973?profile=original
ATTENDEE;ROLE=REQ-PARTICIPANT;PARTSTAT=ACCEPTED;RSVP=TRUE;CN="Casey Gr
 een":https://community.radrounds.com/profile/JamesSalame
END:VEVENT
END:VCALENDAR
