BEGIN:VCALENDAR
PRODID:NingEventWidget-v1
VERSION:2.0
METHOD:PUBLISH
BEGIN:VEVENT
UID:1791588:Event:116048
DTSTAMP:20260424T004731Z
SUMMARY:PACS Administrator Training Course
DESCRIPTION:PACS Administrator Training Course Monday, March 12, 2012 
 - Friday, March 16, 2012MTMI Training Center Waukesha, Wisconsin (WI),
  United StatesProvided by Medical Technology Management Institute (MTM
 I)  CME Provider: Medical Technology Management Institute (MTMI) 20900
  Swenson DriveSuite 650Waukesha, Wisconsin (WI) 53186United States\nTo
 ll Free: (800) 765-6864Phone: (262) 717-9797Fax: (262) 717-9171\n\nCon
 ference Center:MTMI Training Center 20900 Swenson DriveSuite 650Waukes
 ha, Wisconsin (WI) 53186United States\nToll Free: (800) 765-6864Phone:
  (262) 717-9797Fax: (262) 717-9171\n Description:At the completion of 
 this course,participants will have:\n-Acquired the essentials in prepa
 ration for the Certified Imaging Informatics Professional (CIIP) exami
 nation,sponsored and accredited by the American Board of Imaging Infor
 matics (ABII) which was founded by the Society for Imaging Informatics
  in Medicine(SIIM) and the American Registry of Radiologic Technologis
 ts (ARRT).\n-An understanding of the practical and operational issues 
 essentialto a successful PACS implementation.\n-A functional knowledge
  of day to day PACS maintenance activities.\n-A practical understandin
 g of the DICOM and HL7 standards.\n-An understanding of how PACS integ
 rates with other hospital systems.\n-The ability to troubleshoot PACS 
 and RIS problems.\n-The ability to design and streamline workflow to s
 uite the needs of a digital imaging environment.\nSelf Assessment Modu
 le (SAM): No\nInstructors:William EdensJoseph Graczyk, RT(R), MCPJosep
 h L. Marion, MBAsGary Stevens, Ed. M., RT(R)Alexander Tune, MBA, RT(R)
 , CIIP\nSpecialty Audience:Radiology\n\nFor more information visit htt
 ps://community.radrounds.com/events/pacs-administrator-training-course
 -3
DTSTART:20120312T040000Z
DTEND:20120317T035900Z
CATEGORIES:radiology
LOCATION:MTMI Training Center
WEBSITE:http://www.mtmi.net/
URL:http://www.mtmi.net/
CONTACT:(262) 717-9797
ORGANIZER:Medical Technology Management Institute (MTMI)
ATTACH;FMTTYPE="image/jpeg":
ATTENDEE;ROLE=REQ-PARTICIPANT;PARTSTAT=ACCEPTED;RSVP=TRUE;CN="radRound
 s Radiology Events":https://community.radrounds.com/profile/radRoundsR
 adiologyEvents
END:VEVENT
END:VCALENDAR
