BEGIN:VCALENDAR
PRODID:NingEventWidget-v1
VERSION:2.0
METHOD:PUBLISH
BEGIN:VEVENT
UID:1791588:Event:183135
DTSTAMP:20260423T135416Z
SUMMARY:OverExposed: A Biologic Look at Radiation Incidents (Live Webi
 nar)
DESCRIPTION:Course Topics\n\nRadiation Biology\nRadiation Types\nRadia
 tion Measurements\nA Deeper Look at Biologic Effects\n\n\nFor more inf
 ormation visit https://community.radrounds.com/events/overexposed-a-bi
 ologic-look-at-radiation-incidents-live-webinar-1
DTSTART:20180716T130000Z
DTEND:20180716T160000Z
CATEGORIES:live, webinar
LOCATION:Advanced Health Education Center
WEBSITE:https://store.aheconline.com/
URL:https://store.aheconline.com/
CONTACT:7137720157
ORGANIZER;CN="Larry Carney":https://community.radrounds.com/profile/La
 rryCarney
ATTACH;FMTTYPE="image/jpeg":
ATTENDEE;ROLE=REQ-PARTICIPANT;PARTSTAT=ACCEPTED;RSVP=TRUE;CN="Larry Ca
 rney":https://community.radrounds.com/profile/LarryCarney
END:VEVENT
END:VCALENDAR
