BEGIN:VCALENDAR
PRODID:NingEventWidget-v1
VERSION:2.0
METHOD:PUBLISH
BEGIN:VEVENT
UID:1791588:Event:190933
DTSTAMP:20260421T105955Z
SUMMARY:OverExposed: A Biologic Look at Radiation Incidents (Live Webi
 nar)
DESCRIPTION:Course Topics\n\nRadiation Biology\nRadiation Types\nRadia
 tion Measurements\nA Deeper Look at Biologic Effects\n\n\nFor more inf
 ormation visit https://community.radrounds.com/events/overexposed-a-bi
 ologic-look-at-radiation-incidents-live-webina-12
DTSTART:20190624T220000Z
DTEND:20190625T010000Z
CATEGORIES:live, webinar
LOCATION:Advanced Health Education Center
WEBSITE:http://store.aheconline.com
URL:http://store.aheconline.com
CONTACT:1(800) 239-1361
ORGANIZER:AHEC
ATTACH;FMTTYPE="image/jpeg":
ATTENDEE;ROLE=REQ-PARTICIPANT;PARTSTAT=ACCEPTED;RSVP=TRUE;CN="Larry Ca
 rney":https://community.radrounds.com/profile/LarryCarney
END:VEVENT
END:VCALENDAR
