BEGIN:VCALENDAR
PRODID:NingEventWidget-v1
VERSION:2.0
METHOD:PUBLISH
BEGIN:VEVENT
UID:1791588:Event:116095
DTSTAMP:20260421T140908Z
SUMMARY:Orthopaedic MRI and Small Parts: Reading Workshop
DESCRIPTION:Orthopaedic MRI and Small Parts: Reading Workshop Friday, 
 April 27, 2012 - Saturday, April 28, 2012Renaissance Washington, DC Du
 pont Circle Hotel Washington, District of Columbia (DC), United States
 Provided by ProScan Imaging Education Foundation  CME Provider: ProSca
 n Imaging Education Foundation Michelle Wallace5400 Kennedy AvenueCinc
 innati, Ohio (OH) 45213United States\nToll Free: (866) MRI-EDUCPhone: 
 (513) 924-5365Fax: (513) 352-9434\n\nConference Center:Renaissance Was
 hington, DC Dupont Circle Hotel 1143 New Hampshire Avenue NWWashington
 , District of Columbia (DC) 20037United States\nToll Free: 888-803-129
 8Phone: 202-775-0800Fax: 202-331-9491\nDescription:This new course pro
 vides physicians with the best opportunity to enhance their skills at 
 reading Orthopaedic MRI. The instructor will carefully explore numerou
 s cases with the group in a format that closely emulates the clinical 
 setting and offers time for reflection and real-time peer insight. Thi
 s two-day course consists of 80 percent case review/discussion and 20 
 percent didactic lecture.\nThis course will provide practical approach
 es and state-of-the-art updates to interpreting wrist, hand, finger, a
 nkle, foot, toe, elbow, shoulder, hip, and knee joint MRI exams. The p
 rogram includes anatomy and mechanisms of injury, and such representat
 ive topics as osteomyelitis in the diabetic foot, neoplasms, detailed 
 shoulder and hip labral interpretation, and hip femoroacetabular impin
 gement.\nSelf Assessment Module (SAM): No\nInstructors:Stephen J. Pome
 ranz, M.D.\nSpecialty Audience:Radiology\n\nFor more information visit
  https://community.radrounds.com/events/orthopaedic-mri-and-small-part
 s-reading-workshop
DTSTART:20120427T040000Z
DTEND:20120429T035900Z
CATEGORIES:radiology
LOCATION:Renaissance Washington, DC Dupont Circle Hotel
WEBSITE:http://www.marriott.com/hotels/travel/wasrw-renaissance-washin
 gton-dc-dupont-circle-hotel/
URL:http://www.marriott.com/hotels/travel/wasrw-renaissance-washington
 -dc-dupont-circle-hotel/
CONTACT:202-775-0800
ORGANIZER:ProScan Imaging Education Foundation
ATTACH;FMTTYPE="image/jpeg":
ATTENDEE;ROLE=REQ-PARTICIPANT;PARTSTAT=ACCEPTED;RSVP=TRUE;CN="radRound
 s Radiology Events":https://community.radrounds.com/profile/radRoundsR
 adiologyEvents
END:VEVENT
END:VCALENDAR
