BEGIN:VCALENDAR
PRODID:NingEventWidget-v1
VERSION:2.0
METHOD:PUBLISH
BEGIN:VEVENT
UID:1791588:Event:163104
DTSTAMP:20260423T055443Z
SUMMARY:Optimisation in Digital Radiography
DESCRIPTION:This is a CPD-focused meeting designed to provide diagnost
 ic radiology andradiation protection physicists and interested radiogr
 aphers with an update ondigital radiography (CR and DR) dosimetry, ima
 ge quality measurement and anunderstanding of what is required to opti
 mise digital radiography procedures.Educational aims:1. To provide an 
 update on relevant technological developments in digitalradiography2. 
 To provide an update on image quality measurement3. To provide an upda
 te on measures of radiation dose4. To explore the balance between imag
 e quality and dose in digital radiography5. To provide attendees with 
 practical advice for optimising imaging quality andradiation dose\n\nF
 or more information visit https://community.radrounds.com/events/optim
 isation-in-digital-radiography
DTSTART:20151009T131500Z
DTEND:20151009T204500Z
CATEGORIES:conference
LOCATION:British Dental Association, London
WEBSITE:https://membersarea.bir.org.uk/multievents/displayEvent.asp?Ty
 pe=Full&Code=5247
URL:https://membersarea.bir.org.uk/multievents/displayEvent.asp?Type=F
 ull&Code=5247
CONTACT:020 3668 2230
ORGANIZER:The British Institute of Radiology
ATTACH;FMTTYPE="image/jpeg":http://storage.ning.com/topology/rest/1.0/
 file/get/1044766757?profile=original
ATTENDEE;ROLE=REQ-PARTICIPANT;PARTSTAT=ACCEPTED;RSVP=TRUE;CN="Rebecca 
 Groves":https://community.radrounds.com/profile/RebeccaGroves
END:VEVENT
END:VCALENDAR
