BEGIN:VCALENDAR
PRODID:NingEventWidget-v1
VERSION:2.0
METHOD:PUBLISH
BEGIN:VEVENT
UID:1791588:Event:172818
DTSTAMP:20260419T115409Z
SUMMARY:One Size Imaging (Live Webinar)
DESCRIPTION:Course Topics\n\nCo-Workers Comparison\nDiversity in the W
 orkplace\nManagement Awareness\nClash Points\nChanging Jobs\nACORN App
 roach\nImaging Special Populations\nJoint Commission Requirements\nAge
  Specific Competencies for: Children, Adolescents, and the Elderly\n\n
 \nFor more information visit https://community.radrounds.com/events/on
 e-size-imaging-live-webinar-1
DTSTART:20171116T230000Z
DTEND:20171117T013000Z
CATEGORIES:live, webinar
LOCATION:Advanced Health Education Center
WEBSITE:https://store.aheconline.com/index.php?route=product/product&p
 ath=59&product_id=2987
URL:https://store.aheconline.com/index.php?route=product/product&path=
 59&product_id=2987
CONTACT:800-239-1361
ORGANIZER;CN="Larry Carney":https://community.radrounds.com/profile/La
 rryCarney
ATTACH;FMTTYPE="image/jpeg":
ATTENDEE;ROLE=REQ-PARTICIPANT;PARTSTAT=ACCEPTED;RSVP=TRUE;CN="Larry Ca
 rney":https://community.radrounds.com/profile/LarryCarney
END:VEVENT
END:VCALENDAR
