BEGIN:VCALENDAR
PRODID:NingEventWidget-v1
VERSION:2.0
METHOD:PUBLISH
BEGIN:VEVENT
UID:1791588:Event:161448
DTSTAMP:20260422T071511Z
SUMMARY:Obstretric Ultrasound in the High Risk Patient
DESCRIPTION:IN 2014 WE ANNOUNCED THAT DR. JOHN HOBBINS WOULD BE STEPPI
 NG DOWN FROM THE COURSE AFTER 15 YEARS. THE OUTPOURING FROM OUR ATTEND
 EES WAS SO GREAT THAT DR. HOBBINS RECONSIDERED.  OBSTETRIC ULTRASOUND
  IN THE HIGH RISK PATIENT WILL NOW CONTINUE UNDER DR. HOBBINS LEADERSH
 IP AND WITH THE CO-DIRECTION OF DR. HENRY GALAN.  DETAILS TO FOLLOW!\
 n\nFor more information visit https://community.radrounds.com/events/o
 bstretric-ultrasound-in-the-high-risk-patient
DTSTART:20151030T220000Z
DTEND:20151102T000000Z
CATEGORIES:cme, conference
LOCATION:Caesar's Palace
WEBSITE:http://iame.com/obstetric-ultrasound-in-the-high-risk-patient.
 html
URL:http://iame.com/obstetric-ultrasound-in-the-high-risk-patient.html
CONTACT:802 824 4433
ORGANIZER;CN="Richard Hom":https://community.radrounds.com/profile/Ric
 hardHom
ATTACH;FMTTYPE="image/jpeg":
ATTENDEE;ROLE=REQ-PARTICIPANT;PARTSTAT=ACCEPTED;RSVP=TRUE;CN="Richard 
 Hom":https://community.radrounds.com/profile/RichardHom
END:VEVENT
END:VCALENDAR
