BEGIN:VCALENDAR
PRODID:NingEventWidget-v1
VERSION:2.0
METHOD:PUBLISH
BEGIN:VEVENT
UID:1791588:Event:83635
DTSTAMP:20260425T234845Z
SUMMARY:Obstetric Ultrasound in the High Risk Patient
DESCRIPTION:Under the direction of Dr. John Hobbins this program will 
 focus on issues of practical importance to obstetrician-gynecologists,
  perinatologists, radiologists and sonographers.  The program this fa
 ll will feature a mini symposium on the fetal heart.   The curriculu
 m will include extensive discussion on pre-natal diagnosis and expande
 d use of ultrasound in high risk pregnancy with protocols.\n \nEarn u
 p to 19 CME credits.\n \nFor further details contact the Registrar at
  802\824-4433.\n\nFor more information visit https://community.radroun
 ds.com/events/obstetric-ultrasound-in-the-1
DTSTART:20111014T040000Z
DTEND:20111017T035900Z
CATEGORIES:cme, conference
LOCATION:The Venetian Las Vegas
WEBSITE:https://iame.com/conferences/hr12/
URL:https://iame.com/conferences/hr12/
CONTACT:8028244433
ORGANIZER:IAME
ATTACH;FMTTYPE="image/jpeg":http://storage.ning.com/topology/rest/1.0/
 file/get/1044725515?profile=original
ATTENDEE;ROLE=REQ-PARTICIPANT;PARTSTAT=ACCEPTED;RSVP=TRUE;CN="kathleen
  McDiarmid":https://community.radrounds.com/profile/kathleenMcDiarmid
END:VEVENT
END:VCALENDAR
