BEGIN:VCALENDAR
PRODID:NingEventWidget-v1
VERSION:2.0
METHOD:PUBLISH
BEGIN:VEVENT
UID:1791588:Event:123161
DTSTAMP:20260419T204917Z
SUMMARY:OB/GYN Ultrasound
DESCRIPTION:This five-day program is directed toward the performance o
 f women’s ultrasound procedures. An integrated approach of lecture, 
 demonstrations, hands-on scanning experience with models accomplishes 
 the educational objectives. The basics of instrumentation and physics 
 are reinforced in the laboratory. Advanced Health Education Center’s
  training model for skills classes provides a systematic approach of p
 resenting an overview of the instrumentation and physics related to ul
 trasound. There will be both classroom presentation and hands-on scann
 ing to provide for recognition of anatomy related to the female pelvis
  and various stages of gestation.  Attention will also be given to OB
 /Gyn measurements utilizing both the transabdominal and endovaginal sc
 an approach.A variety of ultrasound equipment is available in the scan
  lab to allow for development of skills and appropriate scan protocols
 . A complete two-week program can be accomplished by preceding this co
 urse with the Abdominal Ultrasound course.\n\nFor more information vis
 it https://community.radrounds.com/events/ob-gyn-ultrasound
DTSTART:20120716T120000Z
DTEND:20120720T210000Z
CATEGORIES:ce, course
LOCATION:Advanced Health Education Center
WEBSITE:http://store.aheconline.com/DisplayDetail.aspx?pid=6919
URL:http://store.aheconline.com/DisplayDetail.aspx?pid=6919
CONTACT:800-239-1361
ORGANIZER:Advanced Health Education Center
ATTACH;FMTTYPE="image/jpeg":
ATTENDEE;ROLE=REQ-PARTICIPANT;PARTSTAT=ACCEPTED;RSVP=TRUE;CN="Larry Ca
 rney":https://community.radrounds.com/profile/LarryCarney
END:VEVENT
END:VCALENDAR
