BEGIN:VCALENDAR
PRODID:NingEventWidget-v1
VERSION:2.0
METHOD:PUBLISH
BEGIN:VEVENT
UID:1791588:Event:158351
DTSTAMP:20260420T202650Z
SUMMARY:OB/GYN Ultrasound (5 Days)
DESCRIPTION:We understand that as a healthcare professional, time is o
 f the essence. Our in depth five day OB/GYN ultrasound course helps th
 e participants obtain extensive knowledge of female and fetal anatomy 
 through half days of lecture followed by faculty-supervised, hands-on 
 training with live models. Join us as we increase your confidence leve
 l and scanning skills in this course by providing an overview of ultra
 sound physics, first, second, and third trimester anatomy, measurement
 s and anomalies.  \nOur state of the art scan lab increases your abil
 ity to recognize normal and abnormal anatomy. The opportunity to pract
 ice fetal measurements on a variety of models improves the techniques 
 needed to acquire diagnostic images according to AIUM guidelines. Both
  transabdominal and endovaginal scanning approaches will be utilized i
 n the scan lab allowing for overall development of skills and appropri
 ate scan protocols.\nScan with the experts:\nSometimes it takes an add
 itional day or two of scanning to generate confidence in your new skil
 l set. If you would like to add a day or two, all our ultrasound skill
 s courses can be scheduled with additional scan days in our state of t
 he art interactive scan lab. Give us a call and discuss your needs wit
 h our faculty so we can help you achieve your goals.\nObjectives At th
 e completion of this course, you will be able to:\n\nSet up ultrasound
  system in order to obtain diagnostic images\nRecognize normal and abn
 ormal anatomy while performing a basic endovaginal ultrasound exam of 
 the pelvis\nPerform a satisfactory fetal ultrasound exam following the
  AIUM recommended protocol\nIdentify fetal and uterine anomalies and t
 heir ultrasound appearance\nApply appropriate measurement techniques i
 n GYN and OB\nIdentify ultrasound findings necessary to rule out ectop
 ic pregnancy\n\nCourse Topics\n\nInstrumentation and orientation\nNorm
 al anatomy review\nScan protocols\nEndovaginal approach\nNon-pregnant 
 female pelvis\nFirst, second and third trimester\nFetal growth and dev
 elopment          \nGestational measurements\nFetal anomalies, pl
 acenta and doppler\nEctopic pregnancy\n\nTarget Audience Physicians wh
 o are at an entry level of ultrasound scanning and interpretation  OB
 /GYN specialists, family practice,  internal medicine, emergency medi
 cine and others with a special interest in OB/GYN ultrasound: sonograp
 hers, midwives, physician assistants, nurse practitioners and other he
 alth professionals learning OB/GYN ultrasound or cross training.\nCME 
 Credits\n\n“The Advanced Health Education Center is accredited by th
 e Accreditation Council for Continuing Medical Education to provide co
 ntinuing medical education for physicians.”\n“The Advanced Health 
 Education Center designates this educational activity for a maximum of
  40 hours AMA PRA Category I™. Physicians should claim credit commen
 surate with the extent of their participation in the activity.”\n“
 The Society of Diagnostic Medical Sonographers allows 30 hours CE Cred
 it.”\n\nFaculty: Debbie Robertson, BS, RDMS\nDates/Location: All in 
 Houston, Texas\n\nFebruary 3 – 7\nJune 16 – 20\nSeptember 15 – 1
 9\nNovember 10 – 14\n\nHours: 8am – 5pm\nFee: $2,974\n\nFor more i
 nformation visit https://community.radrounds.com/events/ob-gyn-ultraso
 und-5-days-7
DTSTART:20150914T120000Z
DTEND:20150918T210000Z
CATEGORIES:seminar
LOCATION:Advanced Health Education Center
WEBSITE:https://store.aheconline.com/index.php?route=product/product&f
 ilter_name=OB/GYN%20ULTRASOUND%205%20DAY&product_id=1531
URL:https://store.aheconline.com/index.php?route=product/product&filte
 r_name=OB/GYN%20ULTRASOUND%205%20DAY&product_id=1531
CONTACT:713-772-0157
ORGANIZER;CN="Larry Carney":https://community.radrounds.com/profile/La
 rryCarney
ATTACH;FMTTYPE="image/jpeg":
ATTENDEE;ROLE=REQ-PARTICIPANT;PARTSTAT=ACCEPTED;RSVP=TRUE;CN="Larry Ca
 rney":https://community.radrounds.com/profile/LarryCarney
END:VEVENT
END:VCALENDAR
