BEGIN:VCALENDAR
PRODID:NingEventWidget-v1
VERSION:2.0
METHOD:PUBLISH
BEGIN:VEVENT
UID:1791588:Event:167409
DTSTAMP:20260421T043300Z
SUMMARY:OB/GYN Ultrasound (5 Days)
DESCRIPTION:Objectives At the completion of this course, you will be a
 ble to:\n\nSet up ultrasound system in order to obtain diagnostic imag
 es\nRecognize normal and abnormal anatomy while performing a basic end
 ovaginal ultrasound exam of the pelvis\nPerform a satisfactory fetal u
 ltrasound exam following the AIUM recommended protocol\nIdentify fetal
  and uterine anomalies and their ultrasound appearance\nApply appropri
 ate measurement techniques in GYN and OB\nIdentify ultrasound findings
  necessary to rule out ectopic pregnancy\n\nCourse Topics\n\nInstrumen
 tation and orientation\nNormal anatomy review\nScan protocols\nEndovag
 inal approach\nNon-pregnant female pelvis\nFirst, second and third tri
 mester\nFetal growth and development          \nGestational measu
 rements\nFetal anomalies, placenta and doppler\nEctopic pregnancy\n\n\
 nFor more information visit https://community.radrounds.com/events/ob-
 gyn-ultrasound-5-days-16
DTSTART:20160606T120000Z
DTEND:20160610T210000Z
CATEGORIES:live, event
LOCATION:Houston
WEBSITE:https://store.aheconline.com/index.php?route=product/product&p
 ath=59&product_id=2210
URL:https://store.aheconline.com/index.php?route=product/product&path=
 59&product_id=2210
CONTACT:1-800-239-1361
ORGANIZER;CN="Larry Carney":https://community.radrounds.com/profile/La
 rryCarney
ATTACH;FMTTYPE="image/jpeg":
ATTENDEE;ROLE=REQ-PARTICIPANT;PARTSTAT=ACCEPTED;RSVP=TRUE;CN="Larry Ca
 rney":https://community.radrounds.com/profile/LarryCarney
END:VEVENT
END:VCALENDAR
