BEGIN:VCALENDAR
PRODID:NingEventWidget-v1
VERSION:2.0
METHOD:PUBLISH
BEGIN:VEVENT
UID:1791588:Event:158677
DTSTAMP:20260421T224849Z
SUMMARY:OB/GYN Ultrasound (5 Days)
DESCRIPTION:We understand that as a healthcare professional, time is o
 f the essence. Our in depth five day OB/GYN ultrasound course helps th
 e participants obtain extensive knowledge of female and fetal anatomy 
 through half days of lecture followed by faculty-supervised, hands-on 
 training with live models. Join us as we increase your confidence leve
 l and scanning skills in this course by providing an overview of ultra
 sound physics, first, second, and third trimester anatomy, measurement
 s and anomalies.  \nOur state of the art scan lab increases your abil
 ity to recognize normal and abnormal anatomy. The opportunity to pract
 ice fetal measurements on a variety of models improves the techniques 
 needed to acquire diagnostic images according to AIUM guidelines. Both
  transabdominal and endovaginal scanning approaches will be utilized i
 n the scan lab allowing for overall development of skills and appropri
 ate scan protocols.\n\nFor more information visit https://community.ra
 drounds.com/events/ob-gyn-ultrasound-5-days-10
DTSTART:20150202T050000Z
DTEND:20150207T045900Z
CATEGORIES:seminar
LOCATION:AHEC
WEBSITE:https://store.aheconline.com/index.php?route=product/product&f
 ilter_name=OB/GYN%20ULTRASOUND%205%20DAY&product_id=1531
URL:https://store.aheconline.com/index.php?route=product/product&filte
 r_name=OB/GYN%20ULTRASOUND%205%20DAY&product_id=1531
CONTACT:713-772-0157
ORGANIZER;CN="Larry Carney":https://community.radrounds.com/profile/La
 rryCarney
ATTACH;FMTTYPE="image/jpeg":
ATTENDEE;ROLE=REQ-PARTICIPANT;PARTSTAT=ACCEPTED;RSVP=TRUE;CN="Larry Ca
 rney":https://community.radrounds.com/profile/LarryCarney
END:VEVENT
END:VCALENDAR
