BEGIN:VCALENDAR
PRODID:NingEventWidget-v1
VERSION:2.0
METHOD:PUBLISH
BEGIN:VEVENT
UID:1791588:Event:184772
DTSTAMP:20260420T172029Z
SUMMARY:OB/GYN Ultrasound (5 Day Live Event)
DESCRIPTION:We understand that as a healthcare professional, time is o
 f the essence. Our in-depth 5-day OB/GYN ultrasound course helps the p
 articipants obtain extensive knowledge of female and fetal anatomy thr
 ough half days of lecture followed by faculty-supervised, hands-on tra
 ining with live models. Join us as we increase your confidence level a
 nd scanning skills in this course by providing an overview of ultrasou
 nd physics, first, second, and third trimester anatomy, measurements a
 nd anomalies.\nOur state of the art scan lab increases your ability to
  recognize normal and abnormal anatomy. The opportunity to practice fe
 tal measurements on a variety of models improves the techniques needed
  to acquire diagnostic images according to AIUM guidelines. Both trans
 abdominal and endovaginal scanning approaches will be utilized in the 
 scan lab allowing for overall development of skills and appropriate sc
 an protocols.\n\nFor more information visit https://community.radround
 s.com/events/ob-gyn-ultrasound-5-day-live-event-1
DTSTART:20190218T130000Z
DTEND:20190222T211500Z
CATEGORIES:live, event
LOCATION:Advanced Health Education Center
WEBSITE:http://store.aheconline.com
URL:http://store.aheconline.com
CONTACT:800-239-1361
ORGANIZER;CN="Larry Carney":https://community.radrounds.com/profile/La
 rryCarney
ATTACH;FMTTYPE="image/jpeg":
ATTENDEE;ROLE=REQ-PARTICIPANT;PARTSTAT=ACCEPTED;RSVP=TRUE;CN="Larry Ca
 rney":https://community.radrounds.com/profile/LarryCarney
END:VEVENT
END:VCALENDAR
