BEGIN:VCALENDAR
PRODID:NingEventWidget-v1
VERSION:2.0
METHOD:PUBLISH
BEGIN:VEVENT
UID:1791588:Event:168036
DTSTAMP:20260420T084348Z
SUMMARY:OB/GYN Ultrasound (5 Day)
DESCRIPTION:Course Topics\n\nInstrumentation and orientation\nNormal a
 natomy review\nScan protocols\nEndovaginal approach\nNon-pregnant fema
 le pelvis\nFirst, second and third trimester\nFetal growth and develop
 ment          \nGestational measurements\nFetal anomalies, placen
 ta and doppler\nEctopic pregnancy\n\n\nFor more information visit http
 s://community.radrounds.com/events/ob-gyn-ultrasound-5-day-5
DTSTART:20160912T130000Z
DTEND:20160916T210000Z
CATEGORIES:live, event
LOCATION:Houston
WEBSITE:https://store.aheconline.com/index.php?route=product/product&p
 ath=59&product_id=2229
URL:https://store.aheconline.com/index.php?route=product/product&path=
 59&product_id=2229
CONTACT:18002391361
ORGANIZER;CN="Larry Carney":https://community.radrounds.com/profile/La
 rryCarney
ATTACH;FMTTYPE="image/jpeg":
ATTENDEE;ROLE=REQ-PARTICIPANT;PARTSTAT=ACCEPTED;RSVP=TRUE;CN="Larry Ca
 rney":https://community.radrounds.com/profile/LarryCarney
END:VEVENT
END:VCALENDAR
