BEGIN:VCALENDAR
PRODID:NingEventWidget-v1
VERSION:2.0
METHOD:PUBLISH
BEGIN:VEVENT
UID:1791588:Event:158183
DTSTAMP:20260421T074710Z
SUMMARY:OB/GYN Ultrasound (3 Days)
DESCRIPTION:Boost your confidence by attending our three day OB/GYN ul
 trasound course that is focused on the ultrasound examination and eval
 uation of the female pelvis. Each day begins with lecture, including p
 hysics, instrumentation, female anatomy, fetal biometry. Case studies 
 will be presented to familiarize the participants with normal and abno
 rmal findings.  \nParticipants will finish the day in our on-site sca
 nning lab, where they will benefit from live models and hands on exper
 ience supervised by a faculty member. The course will give participant
 s the skills and knowledge necessary to complete and understand an ult
 rasound using transabdominal and endovaginal protocols according to AI
 UM guidelines.\nScan with the experts:\nSometimes it takes an addition
 al day or two of scanning to generate confidence in your new skill set
 .  If you would like to add a day or two, all our ultrasound skills c
 ourses can be scheduled with additional scan days in our state of the 
 art interactive scan lab.  Give us a call and discuss your needs with
  our faculty so we can help you achieve your goals.\nObjectives\nAt th
 e completion of this course, the learner will be able to:\n\nUtilize t
 he principles of instrumentation to obtain diagnostic images\nRecogniz
 e normal and abnormal pelvic anatomy\nIdentify the difference in techn
 iques related to transabdominal and endovaginal pelvic scanning techni
 ques\nIdentify basic fetal anatomy and biophysical profile\nIdentify b
 asic fetal anomalies and their ultrasound appearance\nApply appropriat
 e measurement techniques in transabdominal and endovaginal scanning\nI
 dentify ultrasound findings in evaluating ectopic pregnancy\n\nCourse 
 Topics\n\nIntroduction to ultrasound physics and instrumentation\nPelv
 ic anatomy transabdominal and endovaginal\nFetal anatomy and biometry\
 nAIUM Scan protocols and patient preparation\nPlacenta and fetal doppl
 er\nFetal anomalies\nCase studies\nHands-on scan lab\n\nTarget Audienc
 e\nPhysicians seeking entry level information for OB and gynecological
  ultrasound. Physician specialties can include but are not limited to 
 OB/GYN specialists, family practice, internal medicine, emergency medi
 cine or radiology. In addition, this course is beneficial for nurses, 
 midwives, sonographers, physician assistants, nurse practitioners and 
 radiology personnel.\nCME Credit\n\n“The Advanced Health Education C
 enter is accredited by the Accreditation Council for Continuing Medica
 l Education to provide continuing medical education for physicians.”
 \n“The Advanced Health Education Center designates this educational 
 activity for a maximum of 24 hours AMA PRA Category I™. Physician sh
 ould claim credit commensurate with the extent of their participation 
 in the activity.”\n“The Society of Diagnostic Medical Sonographers
  allows 18 hours CE Credit.”\n\nFaculty: Debbie Robertson, BS, RDMS\
 n\nFor more information visit https://community.radrounds.com/events/o
 b-gyn-ultrasound-3-days-9
DTSTART:20150716T120000Z
DTEND:20150718T210000Z
CATEGORIES:seminar
LOCATION:Advanced Health Education Center
WEBSITE:https://store.aheconline.com/index.php?route=product/product&f
 ilter_name=OB/GYN%20ULTRASOUND%203%20DAY&product_id=1530
URL:https://store.aheconline.com/index.php?route=product/product&filte
 r_name=OB/GYN%20ULTRASOUND%203%20DAY&product_id=1530
CONTACT:713-772-0157
ORGANIZER;CN="Larry Carney":https://community.radrounds.com/profile/La
 rryCarney
ATTACH;FMTTYPE="image/jpeg":
ATTENDEE;ROLE=REQ-PARTICIPANT;PARTSTAT=ACCEPTED;RSVP=TRUE;CN="Larry Ca
 rney":https://community.radrounds.com/profile/LarryCarney
END:VEVENT
END:VCALENDAR
