BEGIN:VCALENDAR
PRODID:NingEventWidget-v1
VERSION:2.0
METHOD:PUBLISH
BEGIN:VEVENT
UID:1791588:Event:177338
DTSTAMP:20260423T120909Z
SUMMARY:OB/GYN Ultrasound (3 Days)
DESCRIPTION:This course is designed for the medical professional alrea
 dy performing ultrasound procedures. Boost your confidence by attendin
 g our three day OB/GYN ultrasound course that is focused on the ultras
 ound examination and evaluation of the female pelvis. Each day begins 
 with lecture, including physics, instrumentation, female anatomy, feta
 l biometry. Case studies will be presented to familiarize the particip
 ants with normal and abnormal findings.\nParticipants will finish the 
 day in our on-site scanning lab, where they will benefit from live mod
 els and hands on experience supervised by a faculty member. The course
  will give participants the skills and knowledge necessary to complete
  and understand an ultrasound using transabdominal and endovaginal pro
 tocols according to AIUM guidelines.\n\nFor more information visit htt
 ps://community.radrounds.com/events/ob-gyn-ultrasound-3-days-18
DTSTART:20180716T120000Z
DTEND:20180718T201500Z
CATEGORIES:live, event
LOCATION:Advanced Health Education Center
WEBSITE:http://aheconline.com/
URL:http://aheconline.com/
CONTACT:800-239-1361
ORGANIZER;CN="Larry Carney":https://community.radrounds.com/profile/La
 rryCarney
ATTACH;FMTTYPE="image/jpeg":
ATTENDEE;ROLE=REQ-PARTICIPANT;PARTSTAT=ACCEPTED;RSVP=TRUE;CN="Larry Ca
 rney":https://community.radrounds.com/profile/LarryCarney
END:VEVENT
END:VCALENDAR
