BEGIN:VCALENDAR
PRODID:NingEventWidget-v1
VERSION:2.0
METHOD:PUBLISH
BEGIN:VEVENT
UID:1791588:Event:167809
DTSTAMP:20260420T070923Z
SUMMARY:OB/GYN Ultrasound (3 Day)
DESCRIPTION:Course Topics\n\nIntroduction to ultrasound physics and in
 strumentation\nPelvic anatomy transabdominal and endovaginal\nFetal an
 atomy and biometry\nAIUM Scan protocols and patient preparation\nPlace
 nta and fetal doppler\nFetal anomalies\nCase studies\nHands-on scan la
 b\n\n\nFor more information visit https://community.radrounds.com/even
 ts/ob-gyn-ultrasound-3-day-2
DTSTART:20160721T120000Z
DTEND:20160723T201500Z
CATEGORIES:live, event
LOCATION:Houston
WEBSITE:https://store.aheconline.com/index.php?route=product/product&p
 ath=59_83&product_id=2218
URL:https://store.aheconline.com/index.php?route=product/product&path=
 59_83&product_id=2218
CONTACT:18002391361
ORGANIZER;CN="Larry Carney":https://community.radrounds.com/profile/La
 rryCarney
ATTACH;FMTTYPE="image/jpeg":
ATTENDEE;ROLE=REQ-PARTICIPANT;PARTSTAT=ACCEPTED;RSVP=TRUE;CN="Larry Ca
 rney":https://community.radrounds.com/profile/LarryCarney
END:VEVENT
END:VCALENDAR
