BEGIN:VCALENDAR
PRODID:NingEventWidget-v1
VERSION:2.0
METHOD:PUBLISH
BEGIN:VEVENT
UID:1791588:Event:177164
DTSTAMP:20260421T194621Z
SUMMARY:OB/GYN Registry Review
DESCRIPTION:The OB-GYN Registry Review Ultrasound training course is t
 aught by leading experts covering transabdominal and endovaginal scan 
 techniques, as well as OB applications. This OB/GYN ultrasound hands-o
 n course/program incorporates comprehensive lectures, interactive case
  presentations, and extensive hands-on scanning, featuring a 3:1 ratio
  with live models.\n\nFor more information visit https://community.rad
 rounds.com/events/ob-gyn-registry-review
DTSTART:20180614T113000Z
DTEND:20180615T210000Z
CATEGORIES:live, "seminar/", registry, review, course
LOCATION:Gulfcoast Ultrasound Institute
WEBSITE:https://www.gcus.com/
URL:https://www.gcus.com/
CONTACT:7273634500
ORGANIZER:Gulfcoast Ultrasound Institute, Inc
ATTACH;FMTTYPE="image/jpeg":http://storage.ning.com/topology/rest/1.0/
 file/get/1044772842?profile=original
ATTENDEE;ROLE=REQ-PARTICIPANT;PARTSTAT=ACCEPTED;RSVP=TRUE;CN="Casey Gr
 een":https://community.radrounds.com/profile/JamesSalame
END:VEVENT
END:VCALENDAR
